| Back to the "Multiple platform build/check report" |
| Package 25/61 | Hostname | OS / Arch | BUILD | CHECK | BUILD BIN | ||||
| hapmap500knsp 1.3 Benilton Carvalho
| lamb1 | Linux (SUSE 10.1) / x86_64 | OK | OK | |||||
| liverpool | Windows Server 2003 R2 (32-bit) / x64 | [ OK ] | OK | OK | |||||
| pitt | Mac OS X Tiger (10.4.11) / i386 | OK | OK | OK |
| Package: hapmap500knsp |
| Version: 1.3 |
| Command: E:\biocbld\bbs-2.2-bioc\R\bin\R.exe CMD build hapmap500knsp |
| StartedAt: 2008-10-16 13:36:41 -0700 (Thu, 16 Oct 2008) |
| EndedAt: 2008-10-16 13:40:20 -0700 (Thu, 16 Oct 2008) |
| EllapsedTime: 218.6 seconds |
| RetCode: 0 |
| Status: OK |
| PackageFile: hapmap500knsp_1.3.tar.gz |
| PackageFileSize: 80.39 MiB |
* checking for file 'hapmap500knsp/DESCRIPTION' ... OK * preparing 'hapmap500knsp': * checking DESCRIPTION meta-information ... OK * removing junk files * checking for LF line-endings in source and make files * checking for empty or unneeded directories * building 'hapmap500knsp_1.3.tar.gz'