| Back to the "Multiple platform build/check report" |
| Package 18/61 | Hostname | OS / Arch | BUILD | CHECK | BUILD BIN | ||||
| fibroEset 1.4.2 Sylvia Merk
| lamb1 | Linux (SUSE 10.1) / x86_64 | OK | OK | |||||
| liverpool | Windows Server 2003 R2 (32-bit) / x64 | [ OK ] | OK | OK | |||||
| pitt | Mac OS X Tiger (10.4.11) / i386 | OK | OK | OK |
| Package: fibroEset |
| Version: 1.4.2 |
| Command: E:\biocbld\bbs-2.2-bioc\R\bin\R.exe CMD build fibroEset |
| StartedAt: 2008-10-16 13:26:01 -0700 (Thu, 16 Oct 2008) |
| EndedAt: 2008-10-16 13:26:08 -0700 (Thu, 16 Oct 2008) |
| EllapsedTime: 7.0 seconds |
| RetCode: 0 |
| Status: OK |
| PackageFile: fibroEset_1.4.2.tar.gz |
| PackageFileSize: 1.81 MiB |
* checking for file 'fibroEset/DESCRIPTION' ... OK * preparing 'fibroEset': * checking DESCRIPTION meta-information ... OK * removing junk files * checking for LF line-endings in source and make files * checking for empty or unneeded directories * building 'fibroEset_1.4.2.tar.gz'