| facsDorit 1.4.0 Florian Hahne
 
 | Snapshot Date: 2008-10-16 12:02:11 -0700 (Thu, 16 Oct 2008) |  | URL: https://hedgehog.fhcrc.org/bioc-data/trunk/experiment/pkgs/facsDorit |  | Last Changed Rev: 142 / Revision: 729 |  | Last Changed Date: 2006-09-28 18:17:09 -0700 (Thu, 28 Sep 2006) | 
 | lamb1 | Linux (SUSE 10.1) / x86_64 | OK | WARNINGS |  | 
| liverpool | Windows Server 2003 R2 (32-bit) / x64 | OK | WARNINGS | OK | 
| pitt | Mac OS X Tiger (10.4.11) / i386 | [ OK ] | WARNINGS | OK | 
* checking for file 'facsDorit/DESCRIPTION' ... OK
* preparing 'facsDorit':
* checking DESCRIPTION meta-information ... OK
* removing junk files
* checking for LF line-endings in source and make files
* checking for empty or unneeded directories
WARNING: directory 'facsDorit/inst/doc' is empty
* building 'facsDorit_1.4.0.tar.gz'