| ccTutorial 0.9.9 Joern Toedling
 
 | Snapshot Date: 2008-10-16 12:02:11 -0700 (Thu, 16 Oct 2008) |  | URL: https://hedgehog.fhcrc.org/bioc-data/trunk/experiment/pkgs/ccTutorial |  | Last Changed Rev: 719 / Revision: 729 |  | Last Changed Date: 2008-10-06 03:05:16 -0700 (Mon, 06 Oct 2008) | 
 | lamb1 | Linux (SUSE 10.1) / x86_64 | OK | OK |  | 
| liverpool | Windows Server 2003 R2 (32-bit) / x64 | OK | OK | [ OK ] | 
| pitt | Mac OS X Tiger (10.4.11) / i386 | OK | OK | OK | 
installing R.css in E:/biocbld/bbs-2.2-data-experiment/meat/ccTutorial.buildbin-libdir
Using auto-selected zip options 'ccTutorial-ZIPDATA=zip'
---------- Making package ccTutorial ------------
  adding build stamp to DESCRIPTION
  installing R files
  installing inst files
  installing data files
  installing man source files
  installing indices
  zipping data
  installing help
 >>> Building/Updating help pages for package 'ccTutorial'
     Formats: text html latex example chm 
  X                                 text    html    latex   example chm
  arrayGenesToProbeSets             text    html    latex   example chm
  barreraExpressionX                text    html    latex   example chm
  ccTutorial-package                text    html    latex           chm
  chersX                            text    html    latex   example chm
  mm9g2p                            text    html    latex   example chm
  mm9gene2GO                        text    html    latex   example chm
  mm9genes                          text    html    latex   example chm
  probeAnno                         text    html    latex   example chm
Microsoft HTML Help Compiler 4.74.8702
Compiling e:\biocbld\bbs-2.2-data-experiment\meat\R.INSTALL.4936\ccTutorial\chm\ccTutorial.chm
Compile time: 0 minutes, 0 seconds
10	Topics
19	Local links
0	Internet links
1	Graphic
Created e:\biocbld\bbs-2.2-data-experiment\meat\R.INSTALL.4936\ccTutorial\chm\ccTutorial.chm, 22,567 bytes
Compression decreased file by 2,488 bytes.
  adding MD5 sums
packaged installation of package 'ccTutorial' as ccTutorial_0.9.9.zip
* DONE (ccTutorial)