| twilight 1.16.0 Stefanie Scheid
 
 | Snapshot Date: 2008-10-16 00:10:09 -0700 (Thu, 16 Oct 2008) |  | URL: https://hedgehog.fhcrc.org/bioconductor/branches/RELEASE_2_2/madman/Rpacks/twilight |  | Last Changed Rev: 31430 / Revision: 34573 |  | Last Changed Date: 2008-04-29 16:50:18 -0700 (Tue, 29 Apr 2008) | 
 | lamb1 | Linux (SUSE 10.1) / x86_64 | OK | OK |  | 
| wilson2 | Linux (openSUSE 10.3) / x86_64 | OK | OK |  | 
| wellington | Linux (openSUSE 10.3) / i686 | OK | OK |  | 
| liverpool | Windows Server 2003 R2 (32-bit) / x64 | [ OK ] | OK | OK | 
| pitt | Mac OS X Tiger (10.4.11) / i386 | OK | OK | OK | 
* checking for file 'twilight/DESCRIPTION' ... OK
* preparing 'twilight':
* checking DESCRIPTION meta-information ... OK
* cleaning src
* installing the package to re-build vignettes
installing R.css in E:/biocbld/bbs-2.2-bioc/tmpdir/Rinst175652337
---------- Making package twilight ------------
  adding build stamp to DESCRIPTION
  making DLL ...
making confidence.line.d from confidence.line.c
making correlation.d from correlation.c
making kstest.d from kstest.c
making sep.d from sep.c
making twosample.perm.d from twosample.perm.c
making twosample.single.d from twosample.single.c
gcc  -std=gnu99  -Ie:/biocbld/bbs-2.2-bioc/R/include     -O3 -Wall  -c confidence.line.c -o confidence.line.o
gcc  -std=gnu99  -Ie:/biocbld/bbs-2.2-bioc/R/include     -O3 -Wall  -c correlation.c -o correlation.o
gcc  -std=gnu99  -Ie:/biocbld/bbs-2.2-bioc/R/include     -O3 -Wall  -c kstest.c -o kstest.o
gcc  -std=gnu99  -Ie:/biocbld/bbs-2.2-bioc/R/include     -O3 -Wall  -c sep.c -o sep.o
gcc  -std=gnu99  -Ie:/biocbld/bbs-2.2-bioc/R/include     -O3 -Wall  -c twosample.perm.c -o twosample.perm.o
gcc  -std=gnu99  -Ie:/biocbld/bbs-2.2-bioc/R/include     -O3 -Wall  -c twosample.single.c -o twosample.single.o
windres --preprocessor="gcc -E -xc -DRC_INVOKED" -I e:/biocbld/bbs-2.2-bioc/R/include  -i twilight_res.rc -o twilight_res.o
gcc  -std=gnu99  -shared -s  -o twilight.dll twilight.def confidence.line.o correlation.o kstest.o sep.o twosample.perm.o twosample.single.o twilight_res.o  -Le:/biocbld/bbs-2.2-bioc/R/bin    -lR
  ... DLL made
  installing DLL
  installing R files
  installing inst files
  installing data files
  preparing package twilight for lazy loading
Loading required package: splines
Loading required package: Biobase
Loading required package: tools
Welcome to Bioconductor
  Vignettes contain introductory material. To view, type
  'openVignette()'. To cite Bioconductor, see
  'citation("Biobase")' and for packages 'citation(pkgname)'.
  installing man source files
  installing indices
  not zipping data
  installing help
 >>> Building/Updating help pages for package 'twilight'
     Formats: text html latex example chm 
  exfdr                             text    html    latex           chm
  expval                            text    html    latex           chm
  plot.twilight                     text    html    latex   example chm
  print.twilight                    text    html    latex   example chm
  twilight                          text    html    latex   example chm
  twilight.combi                    text    html    latex   example chm
  twilight.filtering                text    html    latex   example chm
  twilight.getlambda                text    html    latex           chm
  twilight.getmatrix                text    html    latex           chm
  twilight.permute.pair             text    html    latex           chm
  twilight.permute.unpair           text    html    latex           chm
  twilight.pval                     text    html    latex   example chm
  twilight.teststat                 text    html    latex   example chm
Microsoft HTML Help Compiler 4.74.8702
Compiling e:\biocbld\bbs-2.2-bioc\meat\twilight\chm\twilight.chm
Compile time: 0 minutes, 0 seconds
14	Topics
46	Local links
11	Internet links
1	Graphic
Created e:\biocbld\bbs-2.2-bioc\meat\twilight\chm\twilight.chm, 37,165 bytes
Compression decreased file by 24,380 bytes.
  adding MD5 sums
* DONE (twilight)
* creating vignettes ... OK
* cleaning src
* removing junk files
* checking for LF line-endings in source and make files
* checking for empty or unneeded directories
* building 'twilight_1.16.0.tar.gz'