| ppiStats 1.6.0 Tony Chiang
 
 | Snapshot Date: 2008-10-16 00:10:09 -0700 (Thu, 16 Oct 2008) |  | URL: https://hedgehog.fhcrc.org/bioconductor/branches/RELEASE_2_2/madman/Rpacks/ppiStats |  | Last Changed Rev: 31430 / Revision: 34573 |  | Last Changed Date: 2008-04-29 16:50:18 -0700 (Tue, 29 Apr 2008) | 
 | lamb1 | Linux (SUSE 10.1) / x86_64 | OK | OK |  | 
| wilson2 | Linux (openSUSE 10.3) / x86_64 | OK | OK |  | 
| wellington | Linux (openSUSE 10.3) / i686 | OK | OK |  | 
| liverpool | Windows Server 2003 R2 (32-bit) / x64 | OK | OK | [ OK ] | 
| pitt | Mac OS X Tiger (10.4.11) / i386 | OK | OK | OK | 
installing R.css in E:/biocbld/bbs-2.2-bioc/meat/ppiStats.buildbin-libdir
Using auto-selected zip options ''
---------- Making package ppiStats ------------
  adding build stamp to DESCRIPTION
  installing NAMESPACE file and metadata
  installing R files
  installing inst files
  preparing package ppiStats for lazy loading
Loading required package: GO
******* Deprecation warning *******:
The package 'GO' is deprecated and will not be supported in the future. 
Instead we strongly reccomend that you should start using the 'GO.db' package. 
We hope you will enjoy these new packages.  If you still have questions, you can search 
(http://dir.gmane.org/gmane.science.biology.informatics.conductor) or ask the mailing list 
(http://bioconductor.org/docs/mailList.html).  
Loading required package: GOstats
Loading required package: graph
Loading required package: GO.db
Loading required package: AnnotationDbi
Loading required package: Biobase
Loading required package: tools
Welcome to Bioconductor
  Vignettes contain introductory material. To view, type
  'openVignette()'. To cite Bioconductor, see
  'citation("Biobase")' and for packages 'citation(pkgname)'.
Loading required package: DBI
Loading required package: RSQLite
Attaching package: 'GO.db'
	The following object(s) are masked from package:GO :
	 GO,
	 GOBPANCESTOR,
	 GOBPCHILDREN,
	 GOBPOFFSPRING,
	 GOBPPARENTS,
	 GOCCANCESTOR,
	 GOCCCHILDREN,
	 GOCCOFFSPRING,
	 GOCCPARENTS,
	 GOMAPCOUNTS,
	 GOMFANCESTOR,
	 GOMFCHILDREN,
	 GOMFOFFSPRING,
	 GOMFPARENTS,
	 GOOBSOLETE,
	 GOSYNONYM,
	 GOTERM 
Loading required package: annotate
Loading required package: xtable
Loading required package: RBGL
Loading required package: Category
Loading required package: genefilter
Loading required package: survival
Loading required package: splines
Loading required package: YEAST
******* Deprecation warning *******:
The package 'YEAST' is deprecated and will not be supported in the future. 
Instead we strongly reccomend that you should start using the 'org.Sc.sgd.db' package. 
We hope you will enjoy these new packages.  If you still have questions, you can search 
(http://dir.gmane.org/gmane.science.biology.informatics.conductor) or ask the mailing list 
(http://bioconductor.org/docs/mailList.html).  
Loading required package: ppiData
Loading required package: Rgraphviz
Loading required package: grid
Attaching package: 'Rgraphviz'
	The following object(s) are masked from package:annotate :
	 toFile 
Loading required package: ScISI
Loading required package: apComplex
Loading required package: Rintact
Loading required package: XML
Attaching package: 'XML'
	The following object(s) are masked from package:graph :
	 addNode 
Loading required package: hypergraph
Attaching package: 'hypergraph'
	The following object(s) are masked from package:Rgraphviz :
	 head,
	 tail 
	The following object(s) are masked from package:xtable :
	 label,
	 label<- 
	The following object(s) are masked from package:AnnotationDbi :
	 head,
	 tail 
	The following object(s) are masked from package:utils :
	 head,
	 tail 
Loading required package: lattice
Loading required package: RColorBrewer
  installing man source files
  installing indices
  installing help
Note: removing empty section \references
Note: removing empty section \examples
Note: removing empty section \references
Note: removing empty section \examples
Note: removing empty section \references
Note: removing empty section \examples
Note: removing empty section \references
Note: removing empty section \examples
 >>> Building/Updating help pages for package 'ppiStats'
     Formats: text html latex example chm 
  assessSymmetry                    text    html    latex   example chm
  bpMatrix                          text    html    latex   example chm
  calcInOutDegStats                 text    html    latex   example chm
  createSummaryTables               text    html    latex   example chm
  degreeEstimates                   text    html    latex   example chm
  estErrProbMethodOfMoments         text    html    latex   example chm
  estimateCCMErrorRates             text    html    latex   example chm
  estimatePPIErrorRates             text    html    latex   example chm
  genBPGraph                        text    html    latex   example chm
  hgParams                          text    html    latex           chm
  hgTests                           text    html    latex           chm
  idProteinErrorType                text    html    latex   example chm
  idProteinType                     text    html    latex   example chm
  inOutScatterCharts                text    html    latex   example chm
  nullDistDoublyTestedEdges         text    html    latex   example chm
  separateExptBySize                text    html    latex           chm
  twPERM                            text    html    latex   example chm
  viabilityCharts                   text    html    latex   example chm
Microsoft HTML Help Compiler 4.74.8702
Compiling e:\biocbld\bbs-2.2-bioc\meat\R.INSTALL.3320\ppiStats\chm\ppiStats.chm
Compile time: 0 minutes, 1 second
19	Topics
44	Local links
2	Internet links
1	Graphic
Created e:\biocbld\bbs-2.2-bioc\meat\R.INSTALL.3320\ppiStats\chm\ppiStats.chm, 42,529 bytes
Compression decreased file by 28,078 bytes.
  adding MD5 sums
packaged installation of package 'ppiStats' as ppiStats_1.6.0.zip
* DONE (ppiStats)