| SMAP 1.4.0 Robin Andersson
 
 | Snapshot Date: 2008-10-16 00:10:09 -0700 (Thu, 16 Oct 2008) |  | URL: https://hedgehog.fhcrc.org/bioconductor/branches/RELEASE_2_2/madman/Rpacks/SMAP |  | Last Changed Rev: 31430 / Revision: 34573 |  | Last Changed Date: 2008-04-29 16:50:18 -0700 (Tue, 29 Apr 2008) | 
 | lamb1 | Linux (SUSE 10.1) / x86_64 | OK | [ OK ] |  | 
| wilson2 | Linux (openSUSE 10.3) / x86_64 | OK | OK |  | 
| wellington | Linux (openSUSE 10.3) / i686 | OK | OK |  | 
| liverpool | Windows Server 2003 R2 (32-bit) / x64 | OK | OK | OK | 
| pitt | Mac OS X Tiger (10.4.11) / i386 | OK | OK | OK | 
* checking for working pdflatex ... OK
* using log directory '/home/biocbuild/bbs-2.2-bioc/meat/SMAP.Rcheck'
* using R version 2.7.2 (2008-08-25)
* using session charset: ISO8859-1
* checking for file 'SMAP/DESCRIPTION' ... OK
* this is package 'SMAP' version '1.4.0'
* checking package name space information ... OK
* checking package dependencies ... OK
* checking if this is a source package ... OK
* checking whether package 'SMAP' can be installed ... OK
* checking package directory ... OK
* checking for portable file names ... OK
* checking for sufficient/correct file permissions ... OK
* checking DESCRIPTION meta-information ... OK
* checking top-level files ... OK
* checking index information ... OK
* checking package subdirectories ... OK
* checking R files for non-ASCII characters ... OK
* checking R files for syntax errors ... OK
* checking whether the package can be loaded ... OK
* checking whether the package can be loaded with stated dependencies ... OK
* checking whether the name space can be loaded with stated dependencies ... OK
* checking for unstated dependencies in R code ... OK
* checking S3 generic/method consistency ... OK
* checking replacement functions ... OK
* checking foreign function calls ... OK
* checking R code for possible problems ... OK
* checking Rd files ... OK
* checking Rd cross-references ... OK
* checking for missing documentation entries ... OK
* checking for code/documentation mismatches ... OK
* checking Rd \usage sections ... OK
* checking data for non-ASCII characters ... OK
* checking line endings in C/C++/Fortran sources/headers ... OK
* checking line endings in Makefiles ... OK
* checking for portable use of $BLAS_LIBS ... OK
* creating SMAP-Ex.R ... OK
* checking examples ... OK
* checking package vignettes in 'inst/doc' ... OK
* creating SMAP-manual.tex ... OK
* checking SMAP-manual.tex using pdflatex ... OK
 
* Installing *source* package 'SMAP' ...
** libs
gcc -std=gnu99 -I/home/biocbuild/bbs-2.2-bioc/R/include  -I/usr/local/include    -fpic  -g -O2 -Wall -c gradient.c -o gradient.o
gradient.c: In function 'hmm_update':
gradient.c:247: warning: unused variable 'tmp'
gcc -std=gnu99 -I/home/biocbuild/bbs-2.2-bioc/R/include  -I/usr/local/include    -fpic  -g -O2 -Wall -c init.c -o init.o
gcc -std=gnu99 -I/home/biocbuild/bbs-2.2-bioc/R/include  -I/usr/local/include    -fpic  -g -O2 -Wall -c overlap.c -o overlap.o
gcc -std=gnu99 -I/home/biocbuild/bbs-2.2-bioc/R/include  -I/usr/local/include    -fpic  -g -O2 -Wall -c prob.c -o prob.o
gcc -std=gnu99 -I/home/biocbuild/bbs-2.2-bioc/R/include  -I/usr/local/include    -fpic  -g -O2 -Wall -c viterbi.c -o viterbi.o
gcc -std=gnu99 -shared -L/usr/local/lib64 -o SMAP.so gradient.o init.o overlap.o prob.o viterbi.o   -L/home/biocbuild/bbs-2.2-bioc/R/lib -lR
** R
** data
** inst
** preparing package for lazy loading
Creating a new generic function for "plot" in "SMAP"
** help
 >>> Building/Updating help pages for package 'SMAP'
     Formats: text html latex example 
  GBM                               text    html    latex   example
  SMAP-internal                     text    html    latex
  SMAPHMM-class                     text    html    latex
  SMAPHMM                           text    html    latex
  SMAPObservations-class            text    html    latex
  SMAPObservations                  text    html    latex   example
  SMAPProfile-class                 text    html    latex
  SMAPProfiles-class                text    html    latex
  smap                              text    html    latex   example
** building package indices ...
* DONE (SMAP)