| SAGx 1.14.0 Per Broberg,
 
 | Snapshot Date: 2008-10-16 00:10:09 -0700 (Thu, 16 Oct 2008) |  | URL: https://hedgehog.fhcrc.org/bioconductor/branches/RELEASE_2_2/madman/Rpacks/SAGx |  | Last Changed Rev: 31430 / Revision: 34573 |  | Last Changed Date: 2008-04-29 16:50:18 -0700 (Tue, 29 Apr 2008) | 
 | lamb1 | Linux (SUSE 10.1) / x86_64 | OK | OK |  | 
| wilson2 | Linux (openSUSE 10.3) / x86_64 | OK | OK |  | 
| wellington | Linux (openSUSE 10.3) / i686 | OK | OK |  | 
| liverpool | Windows Server 2003 R2 (32-bit) / x64 | OK | OK | [ OK ] | 
| pitt | Mac OS X Tiger (10.4.11) / i386 | OK | OK | OK | 
installing R.css in E:/biocbld/bbs-2.2-bioc/meat/SAGx.buildbin-libdir
Using auto-selected zip options ''
---------- Making package SAGx ------------
  adding build stamp to DESCRIPTION
  installing NAMESPACE file and metadata
  making DLL ...
making minigsea.d from minigsea.c
making newboot.d from newboot.c
making samrocNboot.d from samrocNboot.c
gcc  -std=gnu99  -IE:/biocbld/bbs-2.2-bioc/R/include     -O3 -Wall  -c minigsea.c -o minigsea.o
gcc  -std=gnu99  -IE:/biocbld/bbs-2.2-bioc/R/include     -O3 -Wall  -c newboot.c -o newboot.o
gcc  -std=gnu99  -IE:/biocbld/bbs-2.2-bioc/R/include     -O3 -Wall  -c samrocNboot.c -o samrocNboot.o
windres --preprocessor="gcc -E -xc -DRC_INVOKED" -I E:/biocbld/bbs-2.2-bioc/R/include  -i SAGx_res.rc -o SAGx_res.o
gcc  -std=gnu99  -shared -s  -o SAGx.dll SAGx.def minigsea.o newboot.o samrocNboot.o SAGx_res.o  -LE:/biocbld/bbs-2.2-bioc/R/bin    -lR
  ... DLL made
  installing DLL
  installing R files
  installing inst files
  preparing package SAGx for lazy loading
Loading required package: multtest
Loading required package: Biobase
Loading required package: tools
Welcome to Bioconductor
  Vignettes contain introductory material. To view, type
  'openVignette()'. To cite Bioconductor, see
  'citation("Biobase")' and for packages 'citation(pkgname)'.
Loading required package: survival
Loading required package: splines
  installing man source files
  installing indices
  installing help
 >>> Building/Updating help pages for package 'SAGx'
     Formats: text html latex example chm 
  Fstat                             text    html    latex   example chm
  GSEA.mean.t                       text    html    latex           chm
  JT.test                           text    html    latex   example chm
  R2BASE                            text    html    latex           chm
  R2mim                             text    html    latex           chm
  Xprep                             text    html    latex           chm
  Xprep.resid                       text    html    latex           chm
  clin2mim                          text    html    latex           chm
  cluster.q                         text    html    latex           chm
  estimatep0                        text    html    latex           chm
  fetchSignal                       text    html    latex   example chm
  firstpass                         text    html    latex   example chm
  fom                               text    html    latex           chm
  fp.fn                             text    html    latex           chm
  gap                               text    html    latex   example chm
  list.experiments                  text    html    latex   example chm
  list.intersection.p               text    html    latex           chm
  mat2TeX                           text    html    latex           chm
  myclus                            text    html    latex   example chm
  normalise                         text    html    latex           chm
  one.probeset.per.gene             text    html    latex           chm
  outlier                           text    html    latex   example chm
  p0.mom                            text    html    latex           chm
  pava.fdr                          text    html    latex           chm
  pava                              text    html    latex   example chm
  rank.genes                        text    html    latex           chm
  rank.trend                        text    html    latex   example chm
  rsd.test                          text    html    latex           chm
  samroc.result-class               text    html    latex           chm
  samrocn                           text    html    latex           chm
  samrocnboot                       text    html    latex   example chm
  union.of.pways                    text    html    latex   example chm
Microsoft HTML Help Compiler 4.74.8702
Compiling e:\biocbld\bbs-2.2-bioc\meat\R.INSTALL.5696\SAGx\chm\SAGx.chm
Compile time: 0 minutes, 1 second
33	Topics
68	Local links
6	Internet links
1	Graphic
Created e:\biocbld\bbs-2.2-bioc\meat\R.INSTALL.5696\SAGx\chm\SAGx.chm, 53,881 bytes
Compression decreased file by 38,942 bytes.
  adding MD5 sums
packaged installation of package 'SAGx' as SAGx_1.14.0.zip
* DONE (SAGx)