| BiocCaseStudies 1.2.0 Biocore Team c/o BioC user list
 
 | Snapshot Date: 2008-10-16 00:10:09 -0700 (Thu, 16 Oct 2008) |  | URL: https://hedgehog.fhcrc.org/bioconductor/branches/RELEASE_2_2/madman/Rpacks/BiocCaseStudies |  | Last Changed Rev: 31430 / Revision: 34573 |  | Last Changed Date: 2008-04-29 16:50:18 -0700 (Tue, 29 Apr 2008) | 
 | lamb1 | Linux (SUSE 10.1) / x86_64 | OK | OK |  | 
| wilson2 | Linux (openSUSE 10.3) / x86_64 | OK | OK |  | 
| wellington | Linux (openSUSE 10.3) / i686 | OK | OK |  | 
| liverpool | Windows Server 2003 R2 (32-bit) / x64 | OK | OK | [ OK ] | 
| pitt | Mac OS X Tiger (10.4.11) / i386 | OK | OK | OK | 
installing R.css in E:/biocbld/bbs-2.2-bioc/meat/BiocCaseStudies.buildbin-libdir
Using auto-selected zip options ''
---------- Making package BiocCaseStudies ------------
  adding build stamp to DESCRIPTION
  installing NAMESPACE file and metadata
  installing R files
  preparing package BiocCaseStudies for lazy loading
Loading required package: tools
Loading required package: Biobase
Welcome to Bioconductor
  Vignettes contain introductory material. To view, type
  'openVignette()'. To cite Bioconductor, see
  'citation("Biobase")' and for packages 'citation(pkgname)'.
  installing man source files
  installing indices
  installing help
 >>> Building/Updating help pages for package 'BiocCaseStudies'
     Formats: text html latex example chm 
  fixedWidthCat                     text    html    latex   example chm
  markup                            text    html    latex           chm
  mySessionInfo                     text    html    latex           chm
  parseLibVers                      text    html    latex           chm
  requiredPackages                  text    html    latex   example chm
  resample                          text    html    latex           chm
Microsoft HTML Help Compiler 4.74.8702
Compiling e:\biocbld\bbs-2.2-bioc\meat\R.INSTALL.200\BiocCaseStudies\chm\BiocCaseStudies.chm
Compile time: 0 minutes, 1 second
7	Topics
28	Local links
0	Internet links
1	Graphic
Created e:\biocbld\bbs-2.2-bioc\meat\R.INSTALL.200\BiocCaseStudies\chm\BiocCaseStudies.chm, 23,328 bytes
Compression decreased file by 841 bytes.
  adding MD5 sums
packaged installation of package 'BiocCaseStudies' as BiocCaseStudies_1.2.0.zip
* DONE (BiocCaseStudies)