seqLogo 1.6.0 Oliver Bembom
 | Snapshot Date: 2008-08-08 00:12:03 -0700 (Fri, 08 Aug 2008) |  | URL: https://hedgehog.fhcrc.org/bioconductor/branches/RELEASE_2_2/madman/Rpacks/seqLogo |  | Last Changed Rev: 31430 / Revision: 33132 |  | Last Changed Date: 2008-04-29 16:50:18 -0700 (Tue, 29 Apr 2008) |  
  | lamb1  | Linux (SUSE 10.1) / x86_64  |  OK  |  OK  |  | 
| wilson2  | Linux (openSUSE 10.3) / x86_64  |  OK  |  OK  |  | 
| wellington  | Linux (openSUSE 10.3) / i686  |  OK  |  OK  |  | 
| liverpool  | Windows Server 2003 R2 (32-bit) / x64  |  OK  |  OK  | [ OK ] | 
| pitt  | Mac OS X Tiger (10.4.11) / i386  |  OK  |  OK  |  OK  | 
installing R.css in E:/biocbld/bbs-2.2-bioc/meat/seqLogo.buildbin-libdir
Using auto-selected zip options ''
---------- Making package seqLogo ------------
  adding build stamp to DESCRIPTION
  installing NAMESPACE file and metadata
  installing R files
  installing inst files
  preparing package seqLogo for lazy loading
Loading required package: grid
Creating a new generic function for "plot" in "seqLogo"
Creating a new generic function for "summary" in "seqLogo"
Creating a new generic function for "print" in "seqLogo"
  installing man source files
  installing indices
  installing help
Note: removing empty section \details
Note: removing empty section \seealso
Note: removing empty section \details
Note: removing empty section \seealso
Note: removing empty section \note
Note: removing empty section \references
Note: removing empty section \seealso
Note: removing empty section \examples
Note: removing empty section \note
Note: removing empty section \references
Note: removing empty section \seealso
Note: removing empty section \examples
Note: removing empty section \note
Note: removing empty section \references
Note: removing empty section \seealso
Note: removing empty section \note
Note: removing empty section \references
Note: removing empty section \seealso
 >>> Building/Updating help pages for package 'seqLogo'
     Formats: text html latex example chm 
  makePWM                           text    html    latex   example chm
  pwm-class                         text    html    latex           chm
  seqLogo                           text    html    latex   example chm
Microsoft HTML Help Compiler 4.74.8702
Compiling e:\biocbld\bbs-2.2-bioc\meat\R.INSTALL.2876\seqLogo\chm\seqLogo.chm
Compile time: 0 minutes, 0 seconds
4	Topics
10	Local links
0	Internet links
1	Graphic
Created e:\biocbld\bbs-2.2-bioc\meat\R.INSTALL.2876\seqLogo\chm\seqLogo.chm, 18,330 bytes
Compression increased file by 4,979 bytes.
  adding MD5 sums
packaged installation of package 'seqLogo' as seqLogo_1.6.0.zip
* DONE (seqLogo)