rtracklayer 1.0.0 Michael Lawrence
 | Snapshot Date: 2008-08-08 00:12:03 -0700 (Fri, 08 Aug 2008) |  | URL: https://hedgehog.fhcrc.org/bioconductor/branches/RELEASE_2_2/madman/Rpacks/rtracklayer |  | Last Changed Rev: 31430 / Revision: 33132 |  | Last Changed Date: 2008-04-29 16:50:18 -0700 (Tue, 29 Apr 2008) |  
  | lamb1  | Linux (SUSE 10.1) / x86_64  |  OK  |  OK  |  | 
| wilson2  | Linux (openSUSE 10.3) / x86_64  |  OK  |  OK  |  | 
| wellington  | Linux (openSUSE 10.3) / i686  |  OK  |  OK  |  | 
| liverpool  | Windows Server 2003 R2 (32-bit) / x64  |  OK  |  OK  |  OK  | 
| pitt  | Mac OS X Tiger (10.4.11) / i386  | [ OK ] |  OK  |  OK  | 
* checking for file 'rtracklayer/DESCRIPTION' ... OK
* preparing 'rtracklayer':
* checking DESCRIPTION meta-information ... OK
* installing the package to re-build vignettes
* Installing *source* package 'rtracklayer' ...
** R
** inst
** preparing package for lazy loading
Loading required package: Biobase
Loading required package: tools
Welcome to Bioconductor
  Vignettes contain introductory material. To view, type
  'openVignette()'. To cite Bioconductor, see
  'citation("Biobase")' and for packages 'citation(pkgname)'.
Loading required package: RCurl
** help
 >>> Building/Updating help pages for package 'rtracklayer'
     Formats: text html latex example 
  activeView-methods                text    html    latex   example
  argoSession-class                 text    html    latex
  argoView-class                    text    html    latex
  basicTrackLine-class              text    html    latex
  browseGenome                      text    html    latex   example
  browserSession-class              text    html    latex
  browserSession-methods            text    html    latex
  browserView-class                 text    html    latex
  browserView-methods               text    html    latex   example
  browserViews-methods              text    html    latex   example
  chrid-class                       text    html    latex
  chrid-methods                     text    html    latex   example
  dataVals-methods                  text    html    latex   example
  export                            text    html    latex   example
  export.gff                        text    html    latex   example
  featChrom                         text    html    latex
  genomeBrowsers                    text    html    latex
  genomeSegment-class               text    html    latex
  genomeSegment-methods             text    html    latex   example
  genomeSequence-methods            text    html    latex
  import                            text    html    latex   example
  import.gff                        text    html    latex   example
  laySequence-methods               text    html    latex
  layTrack-methods                  text    html    latex   example
  trackData                         text    html    latex
  trackSet-class                    text    html    latex
  trackSet-methods                  text    html    latex   example
  trackSets-class                   text    html    latex
  trackSets-methods                 text    html    latex
  tracks-methods                    text    html    latex
  ucscSession-class                 text    html    latex
  ucscTable                         text    html    latex
  ucscTrackLine-class               text    html    latex
  ucscTrackModes-class              text    html    latex
  ucscTrackModes-methods            text    html    latex   example
  ucscTrackSet-class                text    html    latex
  ucscView-class                    text    html    latex
  wigTrackLine-class                text    html    latex
** building package indices ...
* DONE (rtracklayer)
* creating vignettes ... OK
* removing junk files
* checking for LF line-endings in source and make files
* checking for empty or unneeded directories
* building 'rtracklayer_1.0.0.tar.gz'