preprocessCore 1.2.1 Benjamin Milo Bolstad
 | Snapshot Date: 2008-08-08 00:12:03 -0700 (Fri, 08 Aug 2008) |  | URL: https://hedgehog.fhcrc.org/bioconductor/branches/RELEASE_2_2/madman/Rpacks/preprocessCore |  | Last Changed Rev: 32850 / Revision: 33132 |  | Last Changed Date: 2008-07-22 07:01:44 -0700 (Tue, 22 Jul 2008) |  
  | lamb1  | Linux (SUSE 10.1) / x86_64  | [ OK ] |  OK  |  | 
| wilson2  | Linux (openSUSE 10.3) / x86_64  |  OK  |  OK  |  | 
| wellington  | Linux (openSUSE 10.3) / i686  |  OK  |  OK  |  | 
| liverpool  | Windows Server 2003 R2 (32-bit) / x64  |  OK  |  OK  |  OK  | 
| pitt  | Mac OS X Tiger (10.4.11) / i386  |  OK  |  OK  |  OK  | 
* checking for file 'preprocessCore/DESCRIPTION' ... OK
* preparing 'preprocessCore':
* checking DESCRIPTION meta-information ... OK
* cleaning src
* removing junk files
* checking for LF line-endings in source and make files
* checking for empty or unneeded directories
* building 'preprocessCore_1.2.1.tar.gz'