plw 1.0.0 Magnus Astrand
 | Snapshot Date: 2008-08-08 00:12:03 -0700 (Fri, 08 Aug 2008) |  | URL: https://hedgehog.fhcrc.org/bioconductor/branches/RELEASE_2_2/madman/Rpacks/plw |  | Last Changed Rev: 31430 / Revision: 33132 |  | Last Changed Date: 2008-04-29 16:50:18 -0700 (Tue, 29 Apr 2008) |  
  | lamb1  | Linux (SUSE 10.1) / x86_64  |  OK  |  OK  |  | 
| wilson2  | Linux (openSUSE 10.3) / x86_64  |  OK  |  OK  |  | 
| wellington  | Linux (openSUSE 10.3) / i686  |  OK  |  OK  |  | 
| liverpool  | Windows Server 2003 R2 (32-bit) / x64  | [ OK ] |  OK  |  OK  | 
| pitt  | Mac OS X Tiger (10.4.11) / i386  |  OK  |  OK  |  OK  | 
* checking for file 'plw/DESCRIPTION' ... OK
* preparing 'plw':
* checking DESCRIPTION meta-information ... OK
* cleaning src
* installing the package to re-build vignettes
installing R.css in E:/biocbld/bbs-2.2-bioc/tmpdir/Rinst448432501
---------- Making package plw ------------
  adding build stamp to DESCRIPTION
  installing NAMESPACE file and metadata
  making DLL ...
making SpecialFunctions.d from SpecialFunctions.c
making SpecialOptim.d from SpecialOptim.c
gcc  -std=gnu99  -Ie:/biocbld/bbs-2.2-bioc/R/include     -O3 -Wall  -c SpecialFunctions.c -o SpecialFunctions.o
gcc  -std=gnu99  -Ie:/biocbld/bbs-2.2-bioc/R/include     -O3 -Wall  -c SpecialOptim.c -o SpecialOptim.o
windres --preprocessor="gcc -E -xc -DRC_INVOKED" -I e:/biocbld/bbs-2.2-bioc/R/include  -i plw_res.rc -o plw_res.o
gcc  -std=gnu99  -shared -s  -o plw.dll plw.def SpecialFunctions.o SpecialOptim.o plw_res.o  -Le:/biocbld/bbs-2.2-bioc/R/bin    -lR
  ... DLL made
  installing DLL
  installing R files
  installing inst files
  installing data files
  preparing package plw for lazy loading
Loading required package: MASS
Loading required package: affy
Loading required package: Biobase
Loading required package: tools
Welcome to Bioconductor
  Vignettes contain introductory material. To view, type
  'openVignette()'. To cite Bioconductor, see
  'citation("Biobase")' and for packages 'citation(pkgname)'.
Loading required package: affyio
Loading required package: preprocessCore
Loading required package: splines
  installing man source files
  installing indices
  not zipping data
  installing help
 >>> Building/Updating help pages for package 'plw'
     Formats: text html latex example chm 
  AffySpikeU95Subset                text    html    latex           chm
  HowToPLW                          text    html    latex   example chm
  estimateMVbeta                    text    html    latex           chm
  estimateSigma                     text    html    latex           chm
  estimateSigmaMV                   text    html    latex           chm
  estimateSigmaMVbeta               text    html    latex           chm
  getKnots                          text    html    latex           chm
  lmw                               text    html    latex   example chm
  logitT                            text    html    latex   example chm
  plw-package                       text    html    latex           chm
  plw                               text    html    latex   example chm
  scaleParameterPlot                text    html    latex   example chm
  statByIndex                       text    html    latex   example chm
  topRankSummary                    text    html    latex   example chm
  varHistPlot                       text    html    latex   example chm
Microsoft HTML Help Compiler 4.74.8702
Compiling e:\biocbld\bbs-2.2-bioc\meat\plw\chm\plw.chm
Compile time: 0 minutes, 3 seconds
16	Topics
41	Local links
0	Internet links
1	Graphic
Created e:\biocbld\bbs-2.2-bioc\meat\plw\chm\plw.chm, 37,338 bytes
Compression decreased file by 33,228 bytes.
  adding MD5 sums
* DONE (plw)
* creating vignettes ... OK
* cleaning src
* removing junk files
* checking for LF line-endings in source and make files
* checking for empty or unneeded directories
* building 'plw_1.0.0.tar.gz'