pdInfoBuilder 1.4.0 Benilton Carvalho
 | Snapshot Date: 2008-08-08 00:12:03 -0700 (Fri, 08 Aug 2008) |  | URL: https://hedgehog.fhcrc.org/bioconductor/branches/RELEASE_2_2/madman/Rpacks/pdInfoBuilder |  | Last Changed Rev: 31430 / Revision: 33132 |  | Last Changed Date: 2008-04-29 16:50:18 -0700 (Tue, 29 Apr 2008) |  
  | lamb1  | Linux (SUSE 10.1) / x86_64  |  OK  |  OK  |  | 
| wilson2  | Linux (openSUSE 10.3) / x86_64  |  OK  |  OK  |  | 
| wellington  | Linux (openSUSE 10.3) / i686  |  OK  |  OK  |  | 
| liverpool  | Windows Server 2003 R2 (32-bit) / x64  |  OK  |  OK  | [ OK ] | 
| pitt  | Mac OS X Tiger (10.4.11) / i386  |  OK  |  OK  |  OK  | 
installing R.css in E:/biocbld/bbs-2.2-bioc/meat/pdInfoBuilder.buildbin-libdir
Using auto-selected zip options ''
---------- Making package pdInfoBuilder ------------
  adding build stamp to DESCRIPTION
  installing NAMESPACE file and metadata
  making DLL ...
making pdInfoBuilder.d from pdInfoBuilder.c
gcc  -std=gnu99  -IE:/biocbld/bbs-2.2-bioc/R/include     -O3 -Wall  -c pdInfoBuilder.c -o pdInfoBuilder.o
windres --preprocessor="gcc -E -xc -DRC_INVOKED" -I E:/biocbld/bbs-2.2-bioc/R/include  -i pdInfoBuilder_res.rc -o pdInfoBuilder_res.o
gcc  -std=gnu99  -shared -s  -o pdInfoBuilder.dll pdInfoBuilder.def pdInfoBuilder.o pdInfoBuilder_res.o  -LE:/biocbld/bbs-2.2-bioc/R/bin    -lR
  ... DLL made
  installing DLL
  installing R files
  installing inst files
  preparing package pdInfoBuilder for lazy loading
Loading required package: Biobase
Loading required package: tools
Welcome to Bioconductor
  Vignettes contain introductory material. To view, type
  'openVignette()'. To cite Bioconductor, see
  'citation("Biobase")' and for packages 'citation(pkgname)'.
Loading required package: RSQLite
Loading required package: DBI
Loading required package: affxparser
Loading required package: oligo
Loading required package: splines
Loading required package: preprocessCore
Loading required package: AnnotationDbi
Loading required package: oligoClasses
This is the oligo package
  installing man source files
  installing indices
  installing help
 >>> Building/Updating help pages for package 'pdInfoBuilder'
     Formats: text html latex example chm 
  AffyExpressionPDInfoPkgSeed-class text    html    latex   example chm
  AffyGeneSTPDInfoPkgSeed-class     text    html    latex   example chm
  AffySNPCNVPDInfoPkgSeed-class     text    html    latex   example chm
  AffySNPPDInfoPkgSeed-class        text    html    latex   example chm
  AffyTilingPDInfoPkgSeed-class     text    html    latex   example chm
  NgsPDInfoPkgSeed-class            text    html    latex   example chm
  PDInfoPkgSeed-class               text    html    latex   example chm
  PkgSeed-class                     text    html    latex   example chm
  chipName                          text    html    latex           chm
  makePdInfoPackage                 text    html    latex   example chm
Microsoft HTML Help Compiler 4.74.8702
Compiling e:\biocbld\bbs-2.2-bioc\meat\R.INSTALL.5672\pdInfoBuilder\chm\pdInfoBuilder.chm
Compile time: 0 minutes, 0 seconds
11	Topics
56	Local links
0	Internet links
1	Graphic
Created e:\biocbld\bbs-2.2-bioc\meat\R.INSTALL.5672\pdInfoBuilder\chm\pdInfoBuilder.chm, 26,090 bytes
Compression decreased file by 20,874 bytes.
  adding MD5 sums
packaged installation of package 'pdInfoBuilder' as pdInfoBuilder_1.4.0.zip
* DONE (pdInfoBuilder)