panp 1.10.0 Peter Warren
 | Snapshot Date: 2008-08-08 00:12:03 -0700 (Fri, 08 Aug 2008) |  | URL: https://hedgehog.fhcrc.org/bioconductor/branches/RELEASE_2_2/madman/Rpacks/panp |  | Last Changed Rev: 31430 / Revision: 33132 |  | Last Changed Date: 2008-04-29 16:50:18 -0700 (Tue, 29 Apr 2008) |  
  | lamb1  | Linux (SUSE 10.1) / x86_64  |  OK  |  OK  |  | 
| wilson2  | Linux (openSUSE 10.3) / x86_64  |  OK  |  OK  |  | 
| wellington  | Linux (openSUSE 10.3) / i686  |  OK  |  OK  |  | 
| liverpool  | Windows Server 2003 R2 (32-bit) / x64  |  OK  |  OK  | [ OK ] | 
| pitt  | Mac OS X Tiger (10.4.11) / i386  |  OK  |  OK  |  OK  | 
installing R.css in E:/biocbld/bbs-2.2-bioc/meat/panp.buildbin-libdir
Using auto-selected zip options 'panp-ZIPDATA=zip'
---------- Making package panp ------------
  adding build stamp to DESCRIPTION
  installing R files
  installing inst files
  installing data files
  installing man source files
  installing indices
  zipping data
  installing help
 >>> Building/Updating help pages for package 'panp'
     Formats: text html latex example chm 
  NSMPnames.hgu133a                 text    html    latex           chm
  NSMPnames.hgu133plus2             text    html    latex           chm
  gcrma.ExpressionSet               text    html    latex           chm
  pa.calls                          text    html    latex   example chm
Microsoft HTML Help Compiler 4.74.8702
Compiling e:\biocbld\bbs-2.2-bioc\meat\R.INSTALL.5504\panp\chm\panp.chm
Compile time: 0 minutes, 0 seconds
5	Topics
8	Local links
0	Internet links
1	Graphic
Created e:\biocbld\bbs-2.2-bioc\meat\R.INSTALL.5504\panp\chm\panp.chm, 20,111 bytes
Compression increased file by 5,010 bytes.
  adding MD5 sums
packaged installation of package 'panp' as panp_1.10.0.zip
* DONE (panp)