nnNorm 2.4.0 Adi Laurentiu Tarca
 | Snapshot Date: 2008-08-08 00:12:03 -0700 (Fri, 08 Aug 2008) |  | URL: https://hedgehog.fhcrc.org/bioconductor/branches/RELEASE_2_2/madman/Rpacks/nnNorm |  | Last Changed Rev: 31430 / Revision: 33132 |  | Last Changed Date: 2008-04-29 16:50:18 -0700 (Tue, 29 Apr 2008) |  
  | lamb1  | Linux (SUSE 10.1) / x86_64  |  OK  |  OK  |  | 
| wilson2  | Linux (openSUSE 10.3) / x86_64  |  OK  |  OK  |  | 
| wellington  | Linux (openSUSE 10.3) / i686  |  OK  |  OK  |  | 
| liverpool  | Windows Server 2003 R2 (32-bit) / x64  |  OK  |  OK  | [ OK ] | 
| pitt  | Mac OS X Tiger (10.4.11) / i386  |  OK  |  OK  |  OK  | 
installing R.css in E:/biocbld/bbs-2.2-bioc/meat/nnNorm.buildbin-libdir
Using auto-selected zip options ''
---------- Making package nnNorm ------------
  adding build stamp to DESCRIPTION
  installing R files
  installing inst files
  installing man source files
  installing indices
  installing help
Note: unmatched right brace in file 'detectSpatialBias.Rd' on or after line 32
Note: unmatched right brace in file 'detectSpatialBias.Rd' on or after line 32
Note: unmatched right brace in file 'maNormNN.Rd' on or after line 52
Note: unmatched right brace in file 'maNormNN.Rd' on or after line 52
 >>> Building/Updating help pages for package 'nnNorm'
     Formats: text html latex example chm 
  compNorm                          text    html    latex   example chm
  detectSpatialBias                 text    html    latex   example chm
  maNormNN                          text    html    latex   example chm
Microsoft HTML Help Compiler 4.74.8702
Compiling e:\biocbld\bbs-2.2-bioc\meat\R.INSTALL.3788\nnNorm\chm\nnNorm.chm
Compile time: 0 minutes, 1 second
4	Topics
9	Local links
0	Internet links
1	Graphic
Created e:\biocbld\bbs-2.2-bioc\meat\R.INSTALL.3788\nnNorm\chm\nnNorm.chm, 22,297 bytes
Compression increased file by 5,005 bytes.
  adding MD5 sums
packaged installation of package 'nnNorm' as nnNorm_2.4.0.zip
* DONE (nnNorm)