metaArray 1.14.0 Hyungwon Choi
 | Snapshot Date: 2008-08-08 00:12:03 -0700 (Fri, 08 Aug 2008) |  | URL: https://hedgehog.fhcrc.org/bioconductor/branches/RELEASE_2_2/madman/Rpacks/metaArray |  | Last Changed Rev: 31430 / Revision: 33132 |  | Last Changed Date: 2008-04-29 16:50:18 -0700 (Tue, 29 Apr 2008) |  
  | lamb1  | Linux (SUSE 10.1) / x86_64  |  OK  |  OK  |  | 
| wilson2  | Linux (openSUSE 10.3) / x86_64  |  OK  |  OK  |  | 
| wellington  | Linux (openSUSE 10.3) / i686  |  OK  |  OK  |  | 
| liverpool  | Windows Server 2003 R2 (32-bit) / x64  |  OK  |  OK  |  OK  | 
| pitt  | Mac OS X Tiger (10.4.11) / i386  |  OK  |  OK  | [ OK ] | 
                INSTALLATION WITH 'R CMD INSTALL metaArray_1.14.0.tar.gz'
* Installing to library 'metaArray.buildbin-libdir'
* Installing *source* package 'metaArray' ...
** libs
** arch - i386
gcc -arch i386 -isysroot /Developer/SDKs/MacOSX10.4u.sdk -mmacosx-version-min=10.4 -std=gnu99 -I/Library/Frameworks/R.framework/Resources/include -I/Library/Frameworks/R.framework/Resources/include/i386  -msse3   -DUSEDOUBLE -fPIC  -g -O2 -march=nocona -c contr.c -o contr.o
gcc -arch i386 -isysroot /Developer/SDKs/MacOSX10.4u.sdk -mmacosx-version-min=10.4 -std=gnu99 -I/Library/Frameworks/R.framework/Resources/include -I/Library/Frameworks/R.framework/Resources/include/i386  -msse3   -DUSEDOUBLE -fPIC  -g -O2 -march=nocona -c dproc.c -o dproc.o
gcc -arch i386 -isysroot /Developer/SDKs/MacOSX10.4u.sdk -mmacosx-version-min=10.4 -std=gnu99 -I/Library/Frameworks/R.framework/Resources/include -I/Library/Frameworks/R.framework/Resources/include/i386  -msse3   -DUSEDOUBLE -fPIC  -g -O2 -march=nocona -c dproc2.c -o dproc2.o
gcc -arch i386 -isysroot /Developer/SDKs/MacOSX10.4u.sdk -mmacosx-version-min=10.4 -std=gnu99 -I/Library/Frameworks/R.framework/Resources/include -I/Library/Frameworks/R.framework/Resources/include/i386  -msse3   -DUSEDOUBLE -fPIC  -g -O2 -march=nocona -c intcor.c -o intcor.o
gcc -arch i386 -isysroot /Developer/SDKs/MacOSX10.4u.sdk -mmacosx-version-min=10.4 -std=gnu99 -I/Library/Frameworks/R.framework/Resources/include -I/Library/Frameworks/R.framework/Resources/include/i386  -msse3   -DUSEDOUBLE -fPIC  -g -O2 -march=nocona -c lowess.c -o lowess.o
gcc -arch i386 -isysroot /Developer/SDKs/MacOSX10.4u.sdk -mmacosx-version-min=10.4 -std=gnu99 -I/Library/Frameworks/R.framework/Resources/include -I/Library/Frameworks/R.framework/Resources/include/i386  -msse3   -DUSEDOUBLE -fPIC  -g -O2 -march=nocona -c mmath.c -o mmath.o
gcc -arch i386 -isysroot /Developer/SDKs/MacOSX10.4u.sdk -mmacosx-version-min=10.4 -std=gnu99 -I/Library/Frameworks/R.framework/Resources/include -I/Library/Frameworks/R.framework/Resources/include/i386  -msse3   -DUSEDOUBLE -fPIC  -g -O2 -march=nocona -c perm.c -o perm.o
gcc -arch i386 -isysroot /Developer/SDKs/MacOSX10.4u.sdk -mmacosx-version-min=10.4 -std=gnu99 -I/Library/Frameworks/R.framework/Resources/include -I/Library/Frameworks/R.framework/Resources/include/i386  -msse3   -DUSEDOUBLE -fPIC  -g -O2 -march=nocona -c poe.c -o poe.o
gcc -arch i386 -isysroot /Developer/SDKs/MacOSX10.4u.sdk -mmacosx-version-min=10.4 -std=gnu99 -dynamiclib -Wl,-headerpad_max_install_names -mmacosx-version-min=10.4 -undefined dynamic_lookup -single_module -multiply_defined suppress -L/usr/local/lib -o metaArray.so contr.o dproc.o dproc2.o intcor.o lowess.o mmath.o perm.o poe.o -lm  -F/Library/Frameworks/R.framework/.. -framework R -Wl,-framework -Wl,CoreFoundation
** arch - ppc
gcc -arch ppc -isysroot /Developer/SDKs/MacOSX10.4u.sdk -mmacosx-version-min=10.4 -std=gnu99 -I/Library/Frameworks/R.framework/Resources/include -I/Library/Frameworks/R.framework/Resources/include/ppc  -I/usr/local/include   -DUSEDOUBLE -fPIC  -g -O2 -c contr.c -o contr.o
gcc -arch ppc -isysroot /Developer/SDKs/MacOSX10.4u.sdk -mmacosx-version-min=10.4 -std=gnu99 -I/Library/Frameworks/R.framework/Resources/include -I/Library/Frameworks/R.framework/Resources/include/ppc  -I/usr/local/include   -DUSEDOUBLE -fPIC  -g -O2 -c dproc.c -o dproc.o
gcc -arch ppc -isysroot /Developer/SDKs/MacOSX10.4u.sdk -mmacosx-version-min=10.4 -std=gnu99 -I/Library/Frameworks/R.framework/Resources/include -I/Library/Frameworks/R.framework/Resources/include/ppc  -I/usr/local/include   -DUSEDOUBLE -fPIC  -g -O2 -c dproc2.c -o dproc2.o
gcc -arch ppc -isysroot /Developer/SDKs/MacOSX10.4u.sdk -mmacosx-version-min=10.4 -std=gnu99 -I/Library/Frameworks/R.framework/Resources/include -I/Library/Frameworks/R.framework/Resources/include/ppc  -I/usr/local/include   -DUSEDOUBLE -fPIC  -g -O2 -c intcor.c -o intcor.o
gcc -arch ppc -isysroot /Developer/SDKs/MacOSX10.4u.sdk -mmacosx-version-min=10.4 -std=gnu99 -I/Library/Frameworks/R.framework/Resources/include -I/Library/Frameworks/R.framework/Resources/include/ppc  -I/usr/local/include   -DUSEDOUBLE -fPIC  -g -O2 -c lowess.c -o lowess.o
gcc -arch ppc -isysroot /Developer/SDKs/MacOSX10.4u.sdk -mmacosx-version-min=10.4 -std=gnu99 -I/Library/Frameworks/R.framework/Resources/include -I/Library/Frameworks/R.framework/Resources/include/ppc  -I/usr/local/include   -DUSEDOUBLE -fPIC  -g -O2 -c mmath.c -o mmath.o
gcc -arch ppc -isysroot /Developer/SDKs/MacOSX10.4u.sdk -mmacosx-version-min=10.4 -std=gnu99 -I/Library/Frameworks/R.framework/Resources/include -I/Library/Frameworks/R.framework/Resources/include/ppc  -I/usr/local/include   -DUSEDOUBLE -fPIC  -g -O2 -c perm.c -o perm.o
gcc -arch ppc -isysroot /Developer/SDKs/MacOSX10.4u.sdk -mmacosx-version-min=10.4 -std=gnu99 -I/Library/Frameworks/R.framework/Resources/include -I/Library/Frameworks/R.framework/Resources/include/ppc  -I/usr/local/include   -DUSEDOUBLE -fPIC  -g -O2 -c poe.c -o poe.o
gcc -arch ppc -isysroot /Developer/SDKs/MacOSX10.4u.sdk -mmacosx-version-min=10.4 -std=gnu99 -dynamiclib -Wl,-headerpad_max_install_names -mmacosx-version-min=10.4 -undefined dynamic_lookup -single_module -multiply_defined suppress -L/usr/local/lib -o metaArray.so contr.o dproc.o dproc2.o intcor.o lowess.o mmath.o perm.o poe.o -lm  -F/Library/Frameworks/R.framework/.. -framework R -Wl,-framework -Wl,CoreFoundation
** R
** data
** inst
** help
Note: removing empty section \examples
Note: removing empty section \examples
Note: removing empty section \examples
Note: removing empty section \examples
 >>> Building/Updating help pages for package 'metaArray'
     Formats: text html latex example 
  Zscore                            text    html    latex   example
  em.draw                           text    html    latex
  find.init                         text    html    latex
  fit.em                            text    html    latex
  intcor                            text    html    latex   example
  logit                             text    html    latex
  mdata                             text    html    latex
  poe.em                            text    html    latex
  poe.mcmc                          text    html    latex   example
** building package indices ...
* DONE (metaArray)