makecdfenv 1.18.0 James W. MacDonald
 | Snapshot Date: 2008-08-08 00:12:03 -0700 (Fri, 08 Aug 2008) |  | URL: https://hedgehog.fhcrc.org/bioconductor/branches/RELEASE_2_2/madman/Rpacks/makecdfenv |  | Last Changed Rev: 31430 / Revision: 33132 |  | Last Changed Date: 2008-04-29 16:50:18 -0700 (Tue, 29 Apr 2008) |  
  | lamb1  | Linux (SUSE 10.1) / x86_64  | [ OK ] |  OK  |  | 
| wilson2  | Linux (openSUSE 10.3) / x86_64  |  OK  |  OK  |  | 
| wellington  | Linux (openSUSE 10.3) / i686  |  OK  |  OK  |  | 
| liverpool  | Windows Server 2003 R2 (32-bit) / x64  |  OK  |  OK  |  OK  | 
| pitt  | Mac OS X Tiger (10.4.11) / i386  |  OK  |  OK  |  OK  | 
* checking for file 'makecdfenv/DESCRIPTION' ... OK
* preparing 'makecdfenv':
* checking DESCRIPTION meta-information ... OK
* cleaning src
* installing the package to re-build vignettes
* Installing *source* package 'makecdfenv' ...
creating cache ./config.cache
checking how to run the C preprocessor... cc -E
checking for main in -lz... yes
checking for zlib.h... yes
checking if zlib version >= 1.1.3... yes
updating cache ./config.cache
creating ./config.status
creating src/Makevars
** libs
gcc -std=gnu99 -I/home/biocbuild/bbs-2.2-bioc/R/include -DHAVE_ZLIB=1  -I/usr/local/include    -fpic  -g -O2 -Wall -c read_cdffile.c -o read_cdffile.o
gcc -std=gnu99 -shared -L/usr/local/lib64 -o makecdfenv.so read_cdffile.o -lz   
** R
** inst
** preparing package for lazy loading
Loading required package: Biobase
Loading required package: tools
Welcome to Bioconductor
  Vignettes contain introductory material. To view, type
  'openVignette()'. To cite Bioconductor, see
  'citation("Biobase")' and for packages 'citation(pkgname)'.
Loading required package: affy
Loading required package: affyio
Loading required package: preprocessCore
** help
 >>> Building/Updating help pages for package 'makecdfenv'
     Formats: text html latex example 
  Cdf-class                         text    html    latex
  getInfoInAffyFile                 text    html    latex
  make.cdf.env                      text    html    latex   example
  make.cdf.package                  text    html    latex   example
  pmormm                            text    html    latex
  read.cdffile                      text    html    latex   example
** building package indices ...
* DONE (makecdfenv)
* creating vignettes ... OK
* cleaning src
* removing junk files
* checking for LF line-endings in source and make files
* checking for empty or unneeded directories
* building 'makecdfenv_1.18.0.tar.gz'