logicFS 1.10.0 Holger Schwender
 | Snapshot Date: 2008-08-08 00:12:03 -0700 (Fri, 08 Aug 2008) |  | URL: https://hedgehog.fhcrc.org/bioconductor/branches/RELEASE_2_2/madman/Rpacks/logicFS |  | Last Changed Rev: 31430 / Revision: 33132 |  | Last Changed Date: 2008-04-29 16:50:18 -0700 (Tue, 29 Apr 2008) |  
  | lamb1  | Linux (SUSE 10.1) / x86_64  |  OK  |  OK  |  | 
| wilson2  | Linux (openSUSE 10.3) / x86_64  |  OK  |  OK  |  | 
| wellington  | Linux (openSUSE 10.3) / i686  |  OK  |  OK  |  | 
| liverpool  | Windows Server 2003 R2 (32-bit) / x64  | [ OK ] |  OK  |  OK  | 
| pitt  | Mac OS X Tiger (10.4.11) / i386  |  OK  |  OK  |  OK  | 
* checking for file 'logicFS/DESCRIPTION' ... OK
* preparing 'logicFS':
* checking DESCRIPTION meta-information ... OK
* installing the package to re-build vignettes
installing R.css in E:/biocbld/bbs-2.2-bioc/tmpdir/Rinst13633242
---------- Making package logicFS ------------
  adding build stamp to DESCRIPTION
  installing NAMESPACE file and metadata
  installing R files
  installing inst files
  installing data files
  preparing package logicFS for lazy loading
Loading required package: LogicReg
Loading required package: survival
Loading required package: splines
  installing man source files
  installing indices
  not zipping data
  installing help
 >>> Building/Updating help pages for package 'logicFS'
     Formats: text html latex example chm 
  data.logicfs                      text    html    latex           chm
  getMatEval                        text    html    latex           chm
  logic.bagging                     text    html    latex   example chm
  logic.oob                         text    html    latex           chm
  logic.pimp                        text    html    latex           chm
  logicFS-internal                  text    html    latex           chm
  logicFS                           text    html    latex   example chm
  make.snp.dummy                    text    html    latex           chm
  minDNF                            text    html    latex           chm
  mlogreg                           text    html    latex           chm
  plot.logicFS                      text    html    latex           chm
  predict.logicBagg                 text    html    latex           chm
  predict.mlogreg                   text    html    latex           chm
  print.logicFS                     text    html    latex           chm
  vim.chisq                         text    html    latex           chm
  vim.ebam                          text    html    latex           chm
  vim.individual                    text    html    latex           chm
  vim.logicFS                       text    html    latex           chm
  vim.norm                          text    html    latex           chm
  vim.set                           text    html    latex           chm
Microsoft HTML Help Compiler 4.74.8702
Compiling e:\biocbld\bbs-2.2-bioc\meat\logicFS\chm\logicFS.chm
Compile time: 0 minutes, 0 seconds
21	Topics
124	Local links
0	Internet links
1	Graphic
Created e:\biocbld\bbs-2.2-bioc\meat\logicFS\chm\logicFS.chm, 49,772 bytes
Compression decreased file by 62,268 bytes.
  adding MD5 sums
* DONE (logicFS)
* creating vignettes ... OK
* removing junk files
* checking for LF line-endings in source and make files
* checking for empty or unneeded directories
* building 'logicFS_1.10.0.tar.gz'