hypergraph 1.12.0 Robert Gentleman
 | Snapshot Date: 2008-08-08 00:12:03 -0700 (Fri, 08 Aug 2008) |  | URL: https://hedgehog.fhcrc.org/bioconductor/branches/RELEASE_2_2/madman/Rpacks/hypergraph |  | Last Changed Rev: 31430 / Revision: 33132 |  | Last Changed Date: 2008-04-29 16:50:18 -0700 (Tue, 29 Apr 2008) |  
  | lamb1  | Linux (SUSE 10.1) / x86_64  |  OK  |  OK  |  | 
| wilson2  | Linux (openSUSE 10.3) / x86_64  |  OK  |  OK  |  | 
| wellington  | Linux (openSUSE 10.3) / i686  |  OK  |  OK  |  | 
| liverpool  | Windows Server 2003 R2 (32-bit) / x64  |  OK  | [ OK ] |  OK  | 
| pitt  | Mac OS X Tiger (10.4.11) / i386  |  OK  |  OK  |  OK  | 
* checking for working pdflatex ... OK
* using log directory 'E:/biocbld/bbs-2.2-bioc/meat/hypergraph.Rcheck'
* using R version 2.7.1 (2008-06-23)
* using session charset: ISO8859-1
* checking for file 'hypergraph/DESCRIPTION' ... OK
* this is package 'hypergraph' version '1.12.0'
* checking package name space information ... OK
* checking package dependencies ... OK
* checking if this is a source package ... OK
* checking whether package 'hypergraph' can be installed ... OK
* checking package directory ... OK
* checking for portable file names ... OK
* checking DESCRIPTION meta-information ... OK
* checking top-level files ... OK
* checking index information ... OK
* checking package subdirectories ... OK
* checking R files for non-ASCII characters ... OK
* checking R files for syntax errors ... OK
* checking whether the package can be loaded ... OK
* checking whether the package can be loaded with stated dependencies ... OK
* checking whether the name space can be loaded with stated dependencies ... OK
* checking for unstated dependencies in R code ... OK
* checking S3 generic/method consistency ... OK
* checking replacement functions ... OK
* checking foreign function calls ... OK
* checking R code for possible problems ... OK
* checking Rd files ... OK
* checking Rd cross-references ... OK
* checking for missing documentation entries ... OK
* checking for code/documentation mismatches ... OK
* checking Rd \usage sections ... OK
* creating hypergraph-Ex.R ... OK
* checking examples ... OK
* creating hypergraph-manual.tex ... OK
* checking hypergraph-manual.tex using pdflatex ... OK
 
installing R.css in E:/biocbld/bbs-2.2-bioc/meat/hypergraph.Rcheck
---------- Making package hypergraph ------------
  adding build stamp to DESCRIPTION
  installing NAMESPACE file and metadata
  installing R files
  installing inst files
  preparing package hypergraph for lazy loading
Loading required package: graph
  installing man source files
  installing indices
  installing help
Note: removing empty section \seealso
Note: removing empty section \seealso
Note: removing empty section \seealso
Note: removing empty section \seealso
 >>> Building/Updating help pages for package 'hypergraph'
     Formats: text html latex example chm 
  DirectedHyperedge-class           text    html    latex   example chm
  DirectedHyperedge                 text    html    latex           chm
  Hyperedge-class                   text    html    latex   example chm
  Hyperedge                         text    html    latex           chm
  Hypergraph-class                  text    html    latex   example chm
  Hypergraph                        text    html    latex           chm
  kCores                            text    html    latex   example chm
  l2hel                             text    html    latex   example chm
  vCover                            text    html    latex   example chm
Microsoft HTML Help Compiler 4.74.8702
Compiling e:\biocbld\bbs-2.2-bioc\meat\hypergraph.Rcheck\00_pkg_src\hypergraph\chm\hypergraph.chm
Compile time: 0 minutes, 0 seconds
10	Topics
75	Local links
0	Internet links
1	Graphic
Created e:\biocbld\bbs-2.2-bioc\meat\hypergraph.Rcheck\00_pkg_src\hypergraph\chm\hypergraph.chm, 24,593 bytes
Compression decreased file by 14,843 bytes.
  adding MD5 sums
* DONE (hypergraph)