goTools 1.12.0 Agnes Paquet
 | Snapshot Date: 2008-08-08 00:12:03 -0700 (Fri, 08 Aug 2008) |  | URL: https://hedgehog.fhcrc.org/bioconductor/branches/RELEASE_2_2/madman/Rpacks/goTools |  | Last Changed Rev: 31430 / Revision: 33132 |  | Last Changed Date: 2008-04-29 16:50:18 -0700 (Tue, 29 Apr 2008) |  
  | lamb1  | Linux (SUSE 10.1) / x86_64  |  OK  |  OK  |  | 
| wilson2  | Linux (openSUSE 10.3) / x86_64  |  OK  |  OK  |  | 
| wellington  | Linux (openSUSE 10.3) / i686  |  OK  |  OK  |  | 
| liverpool  | Windows Server 2003 R2 (32-bit) / x64  |  OK  |  OK  | [ OK ] | 
| pitt  | Mac OS X Tiger (10.4.11) / i386  |  OK  |  OK  |  OK  | 
installing R.css in E:/biocbld/bbs-2.2-bioc/meat/goTools.buildbin-libdir
Using auto-selected zip options ''
---------- Making package goTools ------------
  adding build stamp to DESCRIPTION
  installing R files
  installing inst files
  installing data files
  preparing package goTools for lazy loading
Loading required package: Biobase
Loading required package: tools
Welcome to Bioconductor
  Vignettes contain introductory material. To view, type
  'openVignette()'. To cite Bioconductor, see
  'citation("Biobase")' and for packages 'citation(pkgname)'.
Loading required package: annotate
Loading required package: AnnotationDbi
Loading required package: DBI
Loading required package: RSQLite
Loading required package: xtable
Loading required package: GO
******* Deprecation warning *******:
The package 'GO' is deprecated and will not be supported in the future. 
Instead we strongly reccomend that you should start using the 'GO.db' package. 
We hope you will enjoy these new packages.  If you still have questions, you can search 
(http://dir.gmane.org/gmane.science.biology.informatics.conductor) or ask the mailing list 
(http://bioconductor.org/docs/mailList.html).  
  installing man source files
  installing indices
  not zipping data
  installing help
 >>> Building/Updating help pages for package 'goTools'
     Formats: text html latex example chm 
  EndNodeList                       text    html    latex   example chm
  goTools-internal                  text    html    latex           chm
  ontoCompare                       text    html    latex   example chm
  probeID                           text    html    latex           chm
Microsoft HTML Help Compiler 4.74.8702
Compiling e:\biocbld\bbs-2.2-bioc\meat\R.INSTALL.1420\goTools\chm\goTools.chm
Compile time: 0 minutes, 0 seconds
5	Topics
26	Local links
0	Internet links
1	Graphic
Created e:\biocbld\bbs-2.2-bioc\meat\R.INSTALL.1420\goTools\chm\goTools.chm, 19,994 bytes
Compression increased file by 1,091 bytes.
  adding MD5 sums
packaged installation of package 'goTools' as goTools_1.12.0.zip
* DONE (goTools)