goProfiles 1.2.0 Alex Sanchez
 | Snapshot Date: 2008-08-08 00:12:03 -0700 (Fri, 08 Aug 2008) |  | URL: https://hedgehog.fhcrc.org/bioconductor/branches/RELEASE_2_2/madman/Rpacks/goProfiles |  | Last Changed Rev: 31430 / Revision: 33132 |  | Last Changed Date: 2008-04-29 16:50:18 -0700 (Tue, 29 Apr 2008) |  
  | lamb1  | Linux (SUSE 10.1) / x86_64  |  OK  |  OK  |  | 
| wilson2  | Linux (openSUSE 10.3) / x86_64  |  OK  |  OK  |  | 
| wellington  | Linux (openSUSE 10.3) / i686  |  OK  |  OK  |  | 
| liverpool  | Windows Server 2003 R2 (32-bit) / x64  |  OK  |  OK  |  OK  | 
| pitt  | Mac OS X Tiger (10.4.11) / i386  |  OK  |  OK  | [ OK ] | 
                INSTALLATION WITH 'R CMD INSTALL goProfiles_1.2.0.tar.gz'
* Installing to library 'goProfiles.buildbin-libdir'
* Installing *source* package 'goProfiles' ...
** R
** data
** inst
** preparing package for lazy loading
Loading required package: Biobase
Loading required package: tools
Welcome to Bioconductor
  Vignettes contain introductory material. To view, type
  'openVignette()'. To cite Bioconductor, see
  'citation("Biobase")' and for packages 'citation(pkgname)'.
Loading required package: AnnotationDbi
Loading required package: DBI
Loading required package: RSQLite
Loading required package: GO.db
** help
 >>> Building/Updating help pages for package 'goProfiles'
     Formats: text html latex example 
  CD4ids                            text    html    latex   example
  GOTermsList                       text    html    latex   example
  basicProfile                      text    html    latex   example
  compSummary                       text    html    latex   example
  compareGOProfiles                 text    html    latex   example
  compareGeneLists                  text    html    latex   example
  compareProfilesLists              text    html    latex   example
  conversionFunctions               text    html    latex   example
  drosophila                        text    html    latex   example
  equivSummary                      text    html    latex   example
  equivalentGOProfiles              text    html    latex   example
  expandedLevel                     text    html    latex   example
  expandedProfile                   text    html    latex   example
  fitGOProfile                      text    html    latex   example
  goProfiles-package                text    html    latex
  hugoIds                           text    html    latex   example
  mergeProfilesLists                text    html    latex   example
  omimIds                           text    html    latex   example
  plotProfiles                      text    html    latex   example
  printProfiles                     text    html    latex   example
  prostateIds                       text    html    latex   example
  sampleProfiles                    text    html    latex   example
** building package indices ...
* DONE (goProfiles)