globaltest 4.10.0 Jelle Goeman
 | Snapshot Date: 2008-08-08 00:12:03 -0700 (Fri, 08 Aug 2008) |  | URL: https://hedgehog.fhcrc.org/bioconductor/branches/RELEASE_2_2/madman/Rpacks/globaltest |  | Last Changed Rev: 31430 / Revision: 33132 |  | Last Changed Date: 2008-04-29 16:50:18 -0700 (Tue, 29 Apr 2008) |  
  | lamb1  | Linux (SUSE 10.1) / x86_64  |  OK  |  OK  |  | 
| wilson2  | Linux (openSUSE 10.3) / x86_64  |  OK  |  OK  |  | 
| wellington  | Linux (openSUSE 10.3) / i686  |  OK  |  OK  |  | 
| liverpool  | Windows Server 2003 R2 (32-bit) / x64  | [ OK ] |  OK  |  OK  | 
| pitt  | Mac OS X Tiger (10.4.11) / i386  |  OK  |  WARNINGS  |  OK  | 
* checking for file 'globaltest/DESCRIPTION' ... OK
* preparing 'globaltest':
* checking DESCRIPTION meta-information ... OK
* installing the package to re-build vignettes
installing R.css in E:/biocbld/bbs-2.2-bioc/tmpdir/Rinst264018035
---------- Making package globaltest ------------
  adding build stamp to DESCRIPTION
  installing NAMESPACE file and metadata
  installing R files
  installing inst files
  installing data files
  preparing package globaltest for lazy loading
Loading required package: multtest
Loading required package: Biobase
Loading required package: tools
Welcome to Bioconductor
  Vignettes contain introductory material. To view, type
  'openVignette()'. To cite Bioconductor, see
  'citation("Biobase")' and for packages 'citation(pkgname)'.
Loading required package: survival
Loading required package: splines
Loading required package: AnnotationDbi
Loading required package: DBI
Loading required package: RSQLite
Loading required package: annotate
Loading required package: xtable
Creating a new generic function for "fitted.values" in "globaltest"
Creating a new generic function for "residuals" in "globaltest"
  installing man source files
  installing indices
  not zipping data
  installing help
 >>> Building/Updating help pages for package 'globaltest'
     Formats: text html latex example chm 
  GOstructure                       text    html    latex           chm
  annotation.vandeVijver            text    html    latex           chm
  checkerboard                      text    html    latex   example chm
  geneplot                          text    html    latex   example chm
  globaltest                        text    html    latex   example chm
  gostructure.vandeVijver           text    html    latex           chm
  gt.barplot-class                  text    html    latex           chm
  gt.result-class                   text    html    latex           chm
  gtGO                              text    html    latex   example chm
  mlogit                            text    html    latex   example chm
  multtest                          text    html    latex   example chm
  permutations                      text    html    latex   example chm
  regressionplot                    text    html    latex   example chm
  sampleplot                        text    html    latex   example chm
  sampling                          text    html    latex   example chm
  vandeVijver                       text    html    latex           chm
Microsoft HTML Help Compiler 4.74.8702
Compiling e:\biocbld\bbs-2.2-bioc\meat\globaltest\chm\globaltest.chm
Compile time: 0 minutes, 0 seconds
17	Topics
161	Local links
0	Internet links
1	Graphic
Created e:\biocbld\bbs-2.2-bioc\meat\globaltest\chm\globaltest.chm, 48,667 bytes
Compression decreased file by 46,595 bytes.
  adding MD5 sums
* DONE (globaltest)
* creating vignettes ... OK
* removing junk files
* checking for LF line-endings in source and make files
* checking for empty or unneeded directories
* building 'globaltest_4.10.0.tar.gz'