gaggle 1.8.0 Dan Tenenbaum
 | Snapshot Date: 2008-08-08 00:12:03 -0700 (Fri, 08 Aug 2008) |  | URL: https://hedgehog.fhcrc.org/bioconductor/branches/RELEASE_2_2/madman/Rpacks/gaggle |  | Last Changed Rev: 31430 / Revision: 33132 |  | Last Changed Date: 2008-04-29 16:50:18 -0700 (Tue, 29 Apr 2008) |  
  | lamb1  | Linux (SUSE 10.1) / x86_64  |  OK  |  OK  |  | 
| wilson2  | Linux (openSUSE 10.3) / x86_64  |  OK  |  OK  |  | 
| wellington  | Linux (openSUSE 10.3) / i686  |  OK  |  OK  |  | 
| liverpool  | Windows Server 2003 R2 (32-bit) / x64  |  OK  |  OK  |  OK  | 
| pitt  | Mac OS X Tiger (10.4.11) / i386  |  OK  |  OK  | [ OK ] | 
                INSTALLATION WITH 'R CMD INSTALL gaggle_1.8.0.tar.gz'
* Installing to library 'gaggle.buildbin-libdir'
* Installing *source* package 'gaggle' ...
** R
** inst
** help
Note: removing empty section \arguments
Note: removing empty section \arguments
Note: removing empty section \arguments
Note: removing empty section \arguments
Note: removing empty section \arguments
 >>> Building/Updating help pages for package 'gaggle'
     Formats: text html latex example 
  broadcast                         text    html    latex
  connectToGaggle                   text    html    latex
  disconnectFromGaggle              text    html    latex
  gaggleInit                        text    html    latex
  geese                             text    html    latex
  getCluster                        text    html    latex
  getMatrix                         text    html    latex
  getNameList                       text    html    latex
  getNetwork                        text    html    latex
  getSpecies                        text    html    latex
  getTargetGoose                    text    html    latex
  getTuple                          text    html    latex
  hideGoose                         text    html    latex
  setSpecies                        text    html    latex
  setTargetGoose                    text    html    latex
  showGoose                         text    html    latex
  testGagglePackage                 text    html    latex
** building package indices ...
* DONE (gaggle)