flowQ 1.0.0 N. Le Meur
 | Snapshot Date: 2008-08-08 00:12:03 -0700 (Fri, 08 Aug 2008) |  | URL: https://hedgehog.fhcrc.org/bioconductor/branches/RELEASE_2_2/madman/Rpacks/flowQ |  | Last Changed Rev: 31430 / Revision: 33132 |  | Last Changed Date: 2008-04-29 16:50:18 -0700 (Tue, 29 Apr 2008) |  
  | lamb1  | Linux (SUSE 10.1) / x86_64  |  OK  |  OK  |  | 
| wilson2  | Linux (openSUSE 10.3) / x86_64  |  OK  |  OK  |  | 
| wellington  | Linux (openSUSE 10.3) / i686  |  OK  |  OK  |  | 
| liverpool  | Windows Server 2003 R2 (32-bit) / x64  |  OK  |  WARNINGS  | [ OK ] | 
| pitt  | Mac OS X Tiger (10.4.11) / i386  |  OK  |  OK  |  OK  | 
installing R.css in E:/biocbld/bbs-2.2-bioc/meat/flowQ.buildbin-libdir
Using auto-selected zip options ' flowQ-HELP=ziponly'
---------- Making package flowQ ------------
  adding build stamp to DESCRIPTION
  installing NAMESPACE file and metadata
  installing R files
  installing inst files
  preparing package flowQ for lazy loading
Loading required package: outliers
Loading required package: lattice
Loading required package: flowViz
Loading required package: flowCore
Loading required package: rrcov
Loading required package: robustbase
Loading required package: feature
Loading required package: KernSmooth
KernSmooth 2.22 installed
Copyright M. P. Wand 1997
Loading required package: Biobase
Loading required package: tools
Welcome to Bioconductor
  Vignettes contain introductory material. To view, type
  'openVignette()'. To cite Bioconductor, see
  'citation("Biobase")' and for packages 'citation(pkgname)'.
Attaching package: 'flowCore'
	The following object(s) are masked from package:stats :
	 filter 
Loading required package: RColorBrewer
Loading required package: latticeExtra
  installing man source files
  installing indices
  installing help
 >>> Building/Updating help pages for package 'flowQ'
     Formats: text html latex example chm 
  aggregatorList-class              text    html    latex   example chm
  binaryAggregator-class            text    html    latex   example chm
  discreteAggregator-class          text    html    latex   example chm
  evaluateProcess                   text    html    latex   example chm
  factorAggregator-class            text    html    latex   example chm
  flowQ-package                     text    html    latex   example chm
  numericAggregator-class           text    html    latex   example chm
  outlier-class                     text    html    latex   example chm
  outlierResult-class               text    html    latex   example chm
  outliers-methods                  text    html    latex           chm
  qaAggregator-class                text    html    latex   example chm
  qaGraph-class                     text    html    latex   example chm
  qaGraphList-class                 text    html    latex   example chm
  qaProcess-class                   text    html    latex   example chm
  qaProcess.marginevents            text    html    latex   example chm
  qaProcess.timeline                text    html    latex   example chm
  qaProcessFrame-class              text    html    latex   example chm
  qaReport                          text    html    latex   example chm
  rangeAggregator-class             text    html    latex   example chm
  stringAggregator-class            text    html    latex   example chm
  validProcess                      text    html    latex           chm
  writeQAReport                     text    html    latex   example chm
  zipping help files
Microsoft HTML Help Compiler 4.74.8702
Compiling e:\biocbld\bbs-2.2-bioc\meat\R.INSTALL.4180\flowQ\chm\flowQ.chm
Compile time: 0 minutes, 0 seconds
23	Topics
230	Local links
0	Internet links
1	Graphic
Created e:\biocbld\bbs-2.2-bioc\meat\R.INSTALL.4180\flowQ\chm\flowQ.chm, 37,650 bytes
Compression decreased file by 52,270 bytes.
  adding MD5 sums
packaged installation of package 'flowQ' as flowQ_1.0.0.zip
* DONE (flowQ)