fdrame 1.12.0 Effi Kenigsberg
 | Snapshot Date: 2008-08-08 00:12:03 -0700 (Fri, 08 Aug 2008) |  | URL: https://hedgehog.fhcrc.org/bioconductor/branches/RELEASE_2_2/madman/Rpacks/fdrame |  | Last Changed Rev: 31430 / Revision: 33132 |  | Last Changed Date: 2008-04-29 16:50:18 -0700 (Tue, 29 Apr 2008) |  
  | lamb1  | Linux (SUSE 10.1) / x86_64  |  OK  |  OK  |  | 
| wilson2  | Linux (openSUSE 10.3) / x86_64  |  OK  |  OK  |  | 
| wellington  | Linux (openSUSE 10.3) / i686  |  OK  |  OK  |  | 
| liverpool  | Windows Server 2003 R2 (32-bit) / x64  |  OK  |  OK  | [ OK ] | 
| pitt  | Mac OS X Tiger (10.4.11) / i386  |  OK  |  OK  |  OK  | 
installing R.css in E:/biocbld/bbs-2.2-bioc/meat/fdrame.buildbin-libdir
Using auto-selected zip options 'fdrame-ZIPDATA=zip'
---------- Making package fdrame ------------
  adding build stamp to DESCRIPTION
  making DLL ...
making fdr.d from fdr.c
gcc  -std=gnu99  -IE:/biocbld/bbs-2.2-bioc/R/include     -O3 -Wall  -c fdr.c -o fdr.o
windres --preprocessor="gcc -E -xc -DRC_INVOKED" -I E:/biocbld/bbs-2.2-bioc/R/include  -i fdrame_res.rc -o fdrame_res.o
gcc  -std=gnu99  -shared -s  -o fdrame.dll fdrame.def fdr.o fdrame_res.o  -LE:/biocbld/bbs-2.2-bioc/R/bin    -lR
  ... DLL made
  installing DLL
  installing R files
  installing inst files
  installing data files
  preparing package fdrame for lazy loading
Loading required package: tcltk
Loading Tcl/Tk interface ... done
  installing man source files
  installing indices
  zipping data
  installing help
 >>> Building/Updating help pages for package 'fdrame'
     Formats: text html latex example chm 
  design                            text    html    latex   example chm
  exp.arr                           text    html    latex   example chm
  fdr-internal                      text    html    latex           chm
  fdrgui                            text    html    latex   example chm
  fdrma                             text    html    latex   example chm
Microsoft HTML Help Compiler 4.74.8702
Compiling e:\biocbld\bbs-2.2-bioc\meat\R.INSTALL.6024\fdrame\chm\fdrame.chm
Compile time: 0 minutes, 0 seconds
6	Topics
9	Local links
0	Internet links
1	Graphic
Created e:\biocbld\bbs-2.2-bioc\meat\R.INSTALL.6024\fdrame\chm\fdrame.chm, 21,641 bytes
Compression decreased file by 501 bytes.
  adding MD5 sums
packaged installation of package 'fdrame' as fdrame_1.12.0.zip
* DONE (fdrame)