cellHTS 1.10.0 Ligia Bras
 | Snapshot Date: 2008-08-08 00:12:03 -0700 (Fri, 08 Aug 2008) |  | URL: https://hedgehog.fhcrc.org/bioconductor/branches/RELEASE_2_2/madman/Rpacks/cellHTS |  | Last Changed Rev: 31430 / Revision: 33132 |  | Last Changed Date: 2008-04-29 16:50:18 -0700 (Tue, 29 Apr 2008) |  
  | lamb1  | Linux (SUSE 10.1) / x86_64  |  OK  |  OK  |  | 
| wilson2  | Linux (openSUSE 10.3) / x86_64  |  OK  | [ OK ] |  | 
| wellington  | Linux (openSUSE 10.3) / i686  |  OK  |  OK  |  | 
| liverpool  | Windows Server 2003 R2 (32-bit) / x64  |  OK  |  OK  |  OK  | 
| pitt  | Mac OS X Tiger (10.4.11) / i386  |  OK  |  OK  |  OK  | 
* checking for working pdflatex ... OK
* using log directory '/loc/home/biocbuild/bbs-2.2-bioc/meat/cellHTS.Rcheck'
* using R version 2.7.1 (2008-06-23)
* using session charset: ISO8859-1
* checking for file 'cellHTS/DESCRIPTION' ... OK
* this is package 'cellHTS' version '1.10.0'
* checking package name space information ... OK
* checking package dependencies ... OK
* checking if this is a source package ... OK
* checking whether package 'cellHTS' can be installed ... OK
* checking package directory ... OK
* checking for portable file names ... OK
* checking for sufficient/correct file permissions ... OK
* checking DESCRIPTION meta-information ... OK
* checking top-level files ... OK
* checking index information ... OK
* checking package subdirectories ... OK
* checking R files for non-ASCII characters ... OK
* checking R files for syntax errors ... OK
* checking whether the package can be loaded ... OK
* checking whether the package can be loaded with stated dependencies ... OK
* checking whether the name space can be loaded with stated dependencies ... OK
* checking for unstated dependencies in R code ... OK
* checking S3 generic/method consistency ... OK
* checking replacement functions ... OK
* checking foreign function calls ... OK
* checking R code for possible problems ... OK
* checking Rd files ... OK
* checking Rd cross-references ... OK
* checking for missing documentation entries ... OK
* checking for code/documentation mismatches ... OK
* checking Rd \usage sections ... OK
* checking data for non-ASCII characters ... OK
* creating cellHTS-Ex.R ... OK
* checking examples ... OK
* checking package vignettes in 'inst/doc' ... OK
* creating cellHTS-manual.tex ... OK
* checking cellHTS-manual.tex using pdflatex ... OK
 
* Installing *source* package 'cellHTS' ...
** R
** data
** inst
** preparing package for lazy loading
Loading required package: prada
Loading required package: Biobase
Loading required package: tools
Welcome to Bioconductor
  Vignettes contain introductory material. To view, type
  'openVignette()'. To cite Bioconductor, see
  'citation("Biobase")' and for packages 'citation(pkgname)'.
Loading required package: RColorBrewer
Loading required package: grid
Loading required package: rrcov
Loading required package: robustbase
Scalable Robust Estimators with High Breakdown Point (version 0.4-06)
KernSmooth 2.22 installed
Copyright M. P. Wand 1997
Loading required package: genefilter
Loading required package: survival
Loading required package: splines
Attaching package: 'survival'
	The following object(s) are masked from package:robustbase :
	 heart 
** help
Note: removing empty section \details
 >>> Building/Updating help pages for package 'cellHTS'
     Formats: text html latex example 
  Bscore                            text    html    latex   example
  ROC                               text    html    latex   example
  annotate                          text    html    latex   example
  bdgpbiomart                       text    html    latex   example
  configure                         text    html    latex   example
  data-KcViab                       text    html    latex   example
  data-KcViabSmall                  text    html    latex   example
  getEnVisionRawData                text    html    latex   example
  getLibraryPlate                   text    html    latex   example
  getMatrix                         text    html    latex   example
  imageScreen                       text    html    latex   example
  normalizeChannels                 text    html    latex   example
  normalizePlates                   text    html    latex   example
  oneRowPerId                       text    html    latex   example
  plotPlateLibrary                  text    html    latex   example
  plotSpatialEffects                text    html    latex   example
  print.cellHTS                     text    html    latex   example
  readPlateData                     text    html    latex   example
  screenMatch                       text    html    latex   example
  summarizeChannels                 text    html    latex   example
  summarizeReplicates               text    html    latex   example
  write.tabdel                      text    html    latex   example
  writeReport                       text    html    latex   example
  writeTab                          text    html    latex   example
** building package indices ...
* DONE (cellHTS)