biocGraph 1.2.1 Li Long
 | Snapshot Date: 2008-08-08 00:12:03 -0700 (Fri, 08 Aug 2008) |  | URL: https://hedgehog.fhcrc.org/bioconductor/branches/RELEASE_2_2/madman/Rpacks/biocGraph |  | Last Changed Rev: 31634 / Revision: 33132 |  | Last Changed Date: 2008-05-12 17:02:21 -0700 (Mon, 12 May 2008) |  
  | lamb1  | Linux (SUSE 10.1) / x86_64  |  OK  |  OK  |  | 
| wilson2  | Linux (openSUSE 10.3) / x86_64  |  OK  | [ OK ] |  | 
| wellington  | Linux (openSUSE 10.3) / i686  |  OK  |  OK  |  | 
| liverpool  | Windows Server 2003 R2 (32-bit) / x64  |  OK  |  OK  |  OK  | 
| pitt  | Mac OS X Tiger (10.4.11) / i386  |  OK  |  OK  |  OK  | 
* checking for working pdflatex ... OK
* using log directory '/loc/home/biocbuild/bbs-2.2-bioc/meat/biocGraph.Rcheck'
* using R version 2.7.1 (2008-06-23)
* using session charset: ISO8859-1
* checking for file 'biocGraph/DESCRIPTION' ... OK
* this is package 'biocGraph' version '1.2.1'
* checking package name space information ... OK
* checking package dependencies ... OK
* checking if this is a source package ... OK
* checking whether package 'biocGraph' can be installed ... OK
* checking package directory ... OK
* checking for portable file names ... OK
* checking for sufficient/correct file permissions ... OK
* checking DESCRIPTION meta-information ... OK
* checking top-level files ... OK
* checking index information ... OK
* checking package subdirectories ... OK
* checking R files for non-ASCII characters ... OK
* checking R files for syntax errors ... OK
* checking whether the package can be loaded ... OK
* checking whether the package can be loaded with stated dependencies ... OK
* checking whether the name space can be loaded with stated dependencies ... OK
* checking for unstated dependencies in R code ... OK
* checking S3 generic/method consistency ... OK
* checking replacement functions ... OK
* checking foreign function calls ... OK
* checking R code for possible problems ... OK
* checking Rd files ... OK
* checking Rd cross-references ... OK
* checking for missing documentation entries ... OK
* checking for code/documentation mismatches ... OK
* checking Rd \usage sections ... OK
* creating biocGraph-Ex.R ... OK
* checking examples ... OK
* checking package vignettes in 'inst/doc' ... OK
* creating biocGraph-manual.tex ... OK
* checking biocGraph-manual.tex using pdflatex ... OK
 
* Installing *source* package 'biocGraph' ...
** R
** inst
** preparing package for lazy loading
Loading required package: graph
Loading required package: geneplotter
Loading required package: Biobase
Loading required package: tools
Welcome to Bioconductor
  Vignettes contain introductory material. To view, type
  'openVignette()'. To cite Bioconductor, see
  'citation("Biobase")' and for packages 'citation(pkgname)'.
Loading required package: lattice
Loading required package: annotate
Loading required package: AnnotationDbi
Loading required package: DBI
Loading required package: RSQLite
Loading required package: xtable
KernSmooth 2.22 installed
Copyright M. P. Wand 1997
Loading required package: Rgraphviz
Loading required package: grid
Attaching package: 'Rgraphviz'
	The following object(s) are masked from package:annotate :
	 toFile 
Loading required package: fibroEset
Loading required package: hgu95av2.db
** help
 >>> Building/Updating help pages for package 'biocGraph'
     Formats: text html latex example 
  imageMap                          text    html    latex   example
** building package indices ...
* DONE (biocGraph)