bgx 1.4.1 Ernest Turro
 | Snapshot Date: 2008-08-08 00:12:03 -0700 (Fri, 08 Aug 2008) |  | URL: https://hedgehog.fhcrc.org/bioconductor/branches/RELEASE_2_2/madman/Rpacks/bgx |  | Last Changed Rev: 31625 / Revision: 33132 |  | Last Changed Date: 2008-05-12 06:26:19 -0700 (Mon, 12 May 2008) |  
  | lamb1  | Linux (SUSE 10.1) / x86_64  |  OK  |  OK  |  | 
| wilson2  | Linux (openSUSE 10.3) / x86_64  | [ OK ] |  OK  |  | 
| wellington  | Linux (openSUSE 10.3) / i686  |  OK  |  OK  |  | 
| liverpool  | Windows Server 2003 R2 (32-bit) / x64  |  OK  |  OK  |  OK  | 
| pitt  | Mac OS X Tiger (10.4.11) / i386  |  OK  |  OK  |  OK  | 
* checking for file 'bgx/DESCRIPTION' ... OK
* preparing 'bgx':
* checking DESCRIPTION meta-information ... OK
* cleaning src
* installing the package to re-build vignettes
* Installing *source* package 'bgx' ...
checking for gcc... gcc -std=gnu99
checking for C compiler default output file name... a.out
checking whether the C compiler works... yes
checking whether we are cross compiling... no
checking for suffix of executables... 
checking for suffix of object files... o
checking whether we are using the GNU C compiler... yes
checking whether gcc -std=gnu99 accepts -g... yes
checking for gcc -std=gnu99 option to accept ISO C89... none needed
checking for C compiler vendor... gnu
checking whether C compiler accepts -ffast-math... yes
checking whether C compiler accepts -O3... yes
checking build system type... x86_64-unknown-linux-gnu
checking host system type... x86_64-unknown-linux-gnu
checking for gcc architecture flag... 
checking for x86 cpuid 0 output... a:756e6547:6c65746e:49656e69
checking for x86 cpuid 1 output... 6f6:7020800:4e3bd:bfebfbff
checking whether C compiler accepts -march=pentiumpro... no
checking whether C compiler accepts -mcpu=pentiumpro... no
checking whether C compiler accepts -mpentiumpro... yes
checking for gcc architecture flag... -mpentiumpro
checking for gcc -std=gnu99 option to accept ISO C99... none needed
checking for main in -lm... yes
Untarring Boost header files...
checking for an ANSI C-conforming const... yes
checking for inline... inline
configure: creating ./config.status
config.status: creating src/Makevars
** libs
g++ -I/home/biocbuild/bbs-2.2-bioc/R/include -I ../boostIncl -I/usr/local/include    -fpic  -g -O2 -Wall -ffast-math -O3 -DUSING_R -c bgx.cc -o bgx.o
g++ -I/home/biocbuild/bbs-2.2-bioc/R/include -I ../boostIncl -I/usr/local/include    -fpic  -g -O2 -Wall -ffast-math -O3 -DUSING_R -c bgx_frontend.cc -o bgx_frontend.o
gcc -std=gnu99 -I/home/biocbuild/bbs-2.2-bioc/R/include -I ../boostIncl -I/usr/local/include    -fpic  -g -O2 -Wall -g -O2 -mpentiumpro  -ffast-math -O3 -c qnorm.c -o qnorm.o
g++ -I/home/biocbuild/bbs-2.2-bioc/R/include -I ../boostIncl -I/usr/local/include    -fpic  -g -O2 -Wall -ffast-math -O3 -DUSING_R -c rundir.cc -o rundir.o
g++ -I/home/biocbuild/bbs-2.2-bioc/R/include -I ../boostIncl -I/usr/local/include    -fpic  -g -O2 -Wall -ffast-math -O3 -DUSING_R -c sokal.cc -o sokal.o
g++ -shared -L/usr/local/lib64 -o bgx.so bgx.o bgx_frontend.o qnorm.o rundir.o sokal.o -lm   
rm -r ../boostIncl
** R
** inst
** preparing package for lazy loading
Loading required package: Biobase
Loading required package: tools
Welcome to Bioconductor
  Vignettes contain introductory material. To view, type
  'openVignette()'. To cite Bioconductor, see
  'citation("Biobase")' and for packages 'citation(pkgname)'.
Loading required package: affy
Loading required package: affyio
Loading required package: preprocessCore
Loading required package: gcrma
Loading required package: matchprobes
Loading required package: splines
** help
Note: removing empty section \examples
Note: removing empty section \examples
Note: removing empty section \examples
Note: removing empty section \value
Note: removing empty section \details
Note: removing empty section \examples
Note: removing empty section \details
Note: removing empty section \examples
 >>> Building/Updating help pages for package 'bgx'
     Formats: text html latex example 
  analysis.bgx                      text    html    latex
  bgx                               text    html    latex   example
  mcmc.bgx                          text    html    latex
  readOutput.bgx                    text    html    latex
  saveAffinityPlot.bgx              text    html    latex
  setupVars.bgx                     text    html    latex
** building package indices ...
* DONE (bgx)
* creating vignettes ... OK
* cleaning src
* removing junk files
* checking for LF line-endings in source and make files
* checking for empty or unneeded directories
* building 'bgx_1.4.1.tar.gz'