| Back to the "Multiple platform build/check report" | [A] B C D E F G H I J K L M N O P Q R S T U V W X Y Z | 
| Package 25/260 | Hostname | OS / Arch | BUILD | CHECK | BUILD BIN | ||||
| arrayQuality 1.18.0 Agnes Paquet 
  | lamb1 | Linux (SUSE 10.1) / x86_64 | OK | OK | |||||
| wilson2 | Linux (openSUSE 10.3) / x86_64 | OK | OK | ||||||
| wellington | Linux (openSUSE 10.3) / i686 | OK | OK | ||||||
| liverpool | Windows Server 2003 R2 (32-bit) / x64 | [ OK ] | OK | OK | |||||
| pitt | Mac OS X Tiger (10.4.11) / i386 | OK | OK | OK | 
| Package: arrayQuality | 
| Version: 1.18.0 | 
| Command: E:\biocbld\bbs-2.2-bioc\R\bin\R.exe CMD build arrayQuality | 
| StartedAt: 2008-08-08 03:16:13 -0700 (Fri, 08 Aug 2008) | 
| EndedAt: 2008-08-08 03:16:34 -0700 (Fri, 08 Aug 2008) | 
| EllapsedTime: 20.3 seconds | 
| RetCode: 0 | 
| Status: OK | 
| PackageFile: arrayQuality_1.18.0.tar.gz | 
| PackageFileSize: 12.85 MiB | 
* checking for file 'arrayQuality/DESCRIPTION' ... OK * preparing 'arrayQuality': * checking DESCRIPTION meta-information ... OK * removing junk files * checking for LF line-endings in source and make files * checking for empty or unneeded directories * building 'arrayQuality_1.18.0.tar.gz'