affypdnn 1.14.3 Laurent Gautier
 | Snapshot Date: 2008-08-08 00:12:03 -0700 (Fri, 08 Aug 2008) |  | URL: https://hedgehog.fhcrc.org/bioconductor/branches/RELEASE_2_2/madman/Rpacks/affypdnn |  | Last Changed Rev: 31982 / Revision: 33132 |  | Last Changed Date: 2008-05-27 20:56:03 -0700 (Tue, 27 May 2008) |  
  | lamb1  | Linux (SUSE 10.1) / x86_64  |  OK  |  OK  |  | 
| wilson2  | Linux (openSUSE 10.3) / x86_64  |  OK  |  OK  |  | 
| wellington  | Linux (openSUSE 10.3) / i686  |  OK  |  OK  |  | 
| liverpool  | Windows Server 2003 R2 (32-bit) / x64  | [ OK ] |  OK  |  OK  | 
| pitt  | Mac OS X Tiger (10.4.11) / i386  |  OK  |  OK  |  OK  | 
* checking for file 'affypdnn/DESCRIPTION' ... OK
* preparing 'affypdnn':
* checking DESCRIPTION meta-information ... OK
* installing the package to re-build vignettes
installing R.css in E:/biocbld/bbs-2.2-bioc/tmpdir/Rinst153630438
---------- Making package affypdnn ------------
  adding build stamp to DESCRIPTION
  installing R files
  installing inst files
  installing data files
  installing man source files
  installing indices
  not zipping data
  installing help
 >>> Building/Updating help pages for package 'affypdnn'
     Formats: text html latex example chm 
  chiptype.pdnn.params              text    html    latex   example chm
  expressopdnn                      text    html    latex   example chm
  find.params.pdnn                  text    html    latex   example chm
  generateExprVal.method.pdnn       text    html    latex   example chm
  matplotProbesPDNN                 text    html    latex   example chm
  params.dilution                   text    html    latex   example chm
  pdnn.params.chiptype              text    html    latex   example chm
  transform.ProbeSet                text    html    latex   example chm
Microsoft HTML Help Compiler 4.74.8702
Compiling e:\biocbld\bbs-2.2-bioc\meat\affypdnn\chm\affypdnn.chm
Compile time: 0 minutes, 0 seconds
9	Topics
33	Local links
0	Internet links
1	Graphic
Created e:\biocbld\bbs-2.2-bioc\meat\affypdnn\chm\affypdnn.chm, 28,401 bytes
Compression decreased file by 9,436 bytes.
  adding MD5 sums
* DONE (affypdnn)
* creating vignettes ... OK
* removing junk files
* checking for LF line-endings in source and make files
* checking for empty or unneeded directories
* building 'affypdnn_1.14.3.tar.gz'