affyPara 1.0.0 Markus Schmidberger
 | Snapshot Date: 2008-08-08 00:12:03 -0700 (Fri, 08 Aug 2008) |  | URL: https://hedgehog.fhcrc.org/bioconductor/branches/RELEASE_2_2/madman/Rpacks/affyPara |  | Last Changed Rev: 31430 / Revision: 33132 |  | Last Changed Date: 2008-04-29 16:50:18 -0700 (Tue, 29 Apr 2008) |  
  | lamb1  | Linux (SUSE 10.1) / x86_64  |  OK  |  OK  |  | 
| wilson2  | Linux (openSUSE 10.3) / x86_64  |  OK  |  OK  |  | 
| wellington  | Linux (openSUSE 10.3) / i686  |  OK  |  OK  |  | 
| liverpool  | Windows Server 2003 R2 (32-bit) / x64  |  OK  |  OK  |  OK  | 
| pitt  | Mac OS X Tiger (10.4.11) / i386  | [ OK ] |  OK  |  OK  | 
* checking for file 'affyPara/DESCRIPTION' ... OK
* preparing 'affyPara':
* checking DESCRIPTION meta-information ... OK
* installing the package to re-build vignettes
* Installing *source* package 'affyPara' ...
** R
** inst
** preparing package for lazy loading
Loading required package: affy
Loading required package: Biobase
Loading required package: tools
Welcome to Bioconductor
  Vignettes contain introductory material. To view, type
  'openVignette()'. To cite Bioconductor, see
  'citation("Biobase")' and for packages 'citation(pkgname)'.
Loading required package: affyio
Loading required package: preprocessCore
Loading required package: snow
** help
 >>> Building/Updating help pages for package 'affyPara'
     Formats: text html latex example 
  affyParaIntern                    text    html    latex
  bgcPara                           text    html    latex   example
  computeExprSetPara                text    html    latex   example
  distributeFiles                   text    html    latex   example
  mergeSplitObjects                 text    html    latex   example
  normalizeAffyBatchConstantPara    text    html    latex   example
  normalizeAffyBatchInvariantsetPar text    html    latex   example
  normalizeAffyBatchQuantilesPara   text    html    latex   example
  preproPara                        text    html    latex   example
  removeDistributedFiles            text    html    latex   example
  rmaPara                           text    html    latex   example
  split                             text    html    latex   example
** building package indices ...
* DONE (affyPara)
* creating vignettes ... OK
* removing junk files
* checking for LF line-endings in source and make files
* checking for empty or unneeded directories
* building 'affyPara_1.0.0.tar.gz'