SLqPCR 1.6.0 Matthias Kohl
 | Snapshot Date: 2008-08-08 00:12:03 -0700 (Fri, 08 Aug 2008) |  | URL: https://hedgehog.fhcrc.org/bioconductor/branches/RELEASE_2_2/madman/Rpacks/SLqPCR |  | Last Changed Rev: 31430 / Revision: 33132 |  | Last Changed Date: 2008-04-29 16:50:18 -0700 (Tue, 29 Apr 2008) |  
  | lamb1  | Linux (SUSE 10.1) / x86_64  |  OK  |  OK  |  | 
| wilson2  | Linux (openSUSE 10.3) / x86_64  |  OK  |  OK  |  | 
| wellington  | Linux (openSUSE 10.3) / i686  |  OK  |  OK  |  | 
| liverpool  | Windows Server 2003 R2 (32-bit) / x64  | [ OK ] |  OK  |  OK  | 
| pitt  | Mac OS X Tiger (10.4.11) / i386  |  OK  |  OK  |  OK  | 
* checking for file 'SLqPCR/DESCRIPTION' ... OK
* preparing 'SLqPCR':
* checking DESCRIPTION meta-information ... OK
* installing the package to re-build vignettes
installing R.css in E:/biocbld/bbs-2.2-bioc/tmpdir/Rinst93224414
---------- Making package SLqPCR ------------
  adding build stamp to DESCRIPTION
  installing R files
  installing inst files
  installing data files
  installing man source files
  installing indices
  not zipping data
  installing help
 >>> Building/Updating help pages for package 'SLqPCR'
     Formats: text html latex example chm 
  SLqPCR-package                    text    html    latex           chm
  SLqPCRdata                        text    html    latex   example chm
  geneStabM                         text    html    latex           chm
  geomMean                          text    html    latex           chm
  normPCR                           text    html    latex   example chm
  relQuantPCR                       text    html    latex           chm
  selectHKgenes                     text    html    latex   example chm
  vandesompele                      text    html    latex   example chm
Microsoft HTML Help Compiler 4.74.8702
Compiling e:\biocbld\bbs-2.2-bioc\meat\SLqPCR\chm\SLqPCR.chm
Compile time: 0 minutes, 0 seconds
9	Topics
17	Local links
8	Internet links
1	Graphic
Created e:\biocbld\bbs-2.2-bioc\meat\SLqPCR\chm\SLqPCR.chm, 24,227 bytes
Compression decreased file by 3,571 bytes.
  adding MD5 sums
* DONE (SLqPCR)
* creating vignettes ... OK
* removing junk files
* checking for LF line-endings in source and make files
* checking for empty or unneeded directories
* building 'SLqPCR_1.6.0.tar.gz'