SBMLR 1.34.0 Tomas Radivoyevitch
 | Snapshot Date: 2008-08-08 00:12:03 -0700 (Fri, 08 Aug 2008) |  | URL: https://hedgehog.fhcrc.org/bioconductor/branches/RELEASE_2_2/madman/Rpacks/SBMLR |  | Last Changed Rev: 31430 / Revision: 33132 |  | Last Changed Date: 2008-04-29 16:50:18 -0700 (Tue, 29 Apr 2008) |  
  | lamb1  | Linux (SUSE 10.1) / x86_64  |  OK  |  OK  |  | 
| wilson2  | Linux (openSUSE 10.3) / x86_64  |  OK  |  OK  |  | 
| wellington  | Linux (openSUSE 10.3) / i686  |  OK  |  OK  |  | 
| liverpool  | Windows Server 2003 R2 (32-bit) / x64  |  OK  |  OK  |  OK  | 
| pitt  | Mac OS X Tiger (10.4.11) / i386  |  OK  |  OK  | [ OK ] | 
                INSTALLATION WITH 'R CMD INSTALL SBMLR_1.34.0.tar.gz'
* Installing to library 'SBMLR.buildbin-libdir'
* Installing *source* package 'SBMLR' ...
** R
** inst
** preparing package for lazy loading
Loading required package: XML
Loading required package: odesolve
** help
Note: removing empty section \details
 >>> Building/Updating help pages for package 'SBMLR'
     Formats: text html latex example 
  equateModels                      text    html    latex   example
  makeLaw                           text    html    latex   example
  readSBML                          text    html    latex   example
  readSBMLR                         text    html    latex   example
  saveSBML                          text    html    latex   example
  saveSBMLR                         text    html    latex   example
  simulate                          text    html    latex   example
  summary.SBML                      text    html    latex   example
** building package indices ...
* DONE (SBMLR)