MiPP 1.12.0 Sukwoo Kim
 | Snapshot Date: 2008-08-08 00:12:03 -0700 (Fri, 08 Aug 2008) |  | URL: https://hedgehog.fhcrc.org/bioconductor/branches/RELEASE_2_2/madman/Rpacks/MiPP |  | Last Changed Rev: 31430 / Revision: 33132 |  | Last Changed Date: 2008-04-29 16:50:18 -0700 (Tue, 29 Apr 2008) |  
  | lamb1  | Linux (SUSE 10.1) / x86_64  |  OK  |  OK  |  | 
| wilson2  | Linux (openSUSE 10.3) / x86_64  |  OK  |  OK  |  | 
| wellington  | Linux (openSUSE 10.3) / i686  |  OK  |  OK  |  | 
| liverpool  | Windows Server 2003 R2 (32-bit) / x64  | [ OK ] |  OK  |  OK  | 
| pitt  | Mac OS X Tiger (10.4.11) / i386  |  OK  |  OK  |  OK  | 
* checking for file 'MiPP/DESCRIPTION' ... OK
* preparing 'MiPP':
* checking DESCRIPTION meta-information ... OK
* installing the package to re-build vignettes
installing R.css in E:/biocbld/bbs-2.2-bioc/tmpdir/Rinst184491311
---------- Making package MiPP ------------
  adding build stamp to DESCRIPTION
  installing R files
  installing inst files
  installing data files
  preparing package MiPP for lazy loading
Loading required package: Biobase
Loading required package: tools
Welcome to Bioconductor
  Vignettes contain introductory material. To view, type
  'openVignette()'. To cite Bioconductor, see
  'citation("Biobase")' and for packages 'citation(pkgname)'.
Loading required package: e1071
Loading required package: class
Loading required package: MASS
  installing man source files
  installing indices
  not zipping data
  installing help
 >>> Building/Updating help pages for package 'MiPP'
     Formats: text html latex example chm 
  colon                             text    html    latex           chm
  cv.mipp.rule                      text    html    latex           chm
  get.mipp                          text    html    latex           chm
  get.mipp.lda                      text    html    latex           chm
  get.mipp.logistic                 text    html    latex           chm
  get.mipp.qda                      text    html    latex           chm
  get.mipp.svm.linear               text    html    latex           chm
  get.mipp.svm.rbf                  text    html    latex           chm
  leuk1                             text    html    latex           chm
  leuk2                             text    html    latex           chm
  leukemia                          text    html    latex           chm
  linearkernel.decision.function    text    html    latex           chm
  mipp                              text    html    latex   example chm
  mipp.preproc                      text    html    latex   example chm
  mipp.rule                         text    html    latex           chm
  mipp.seq                          text    html    latex   example chm
  pre.select                        text    html    latex           chm
  quant.normal                      text    html    latex           chm
  quant.normal2                     text    html    latex           chm
  rbfkernel.decision.function       text    html    latex           chm
Microsoft HTML Help Compiler 4.74.8702
Compiling e:\biocbld\bbs-2.2-bioc\meat\MiPP\chm\MiPP.chm
Compile time: 0 minutes, 1 second
21	Topics
41	Local links
0	Internet links
1	Graphic
Created e:\biocbld\bbs-2.2-bioc\meat\MiPP\chm\MiPP.chm, 25,359 bytes
Compression decreased file by 14,652 bytes.
  adding MD5 sums
* DONE (MiPP)
* creating vignettes ... OK
* removing junk files
* checking for LF line-endings in source and make files
* checking for empty or unneeded directories
* building 'MiPP_1.12.0.tar.gz'