MassSpecWavelet 1.6.0 Pan Du
 | Snapshot Date: 2008-08-08 00:12:03 -0700 (Fri, 08 Aug 2008) |  | URL: https://hedgehog.fhcrc.org/bioconductor/branches/RELEASE_2_2/madman/Rpacks/MassSpecWavelet |  | Last Changed Rev: 31430 / Revision: 33132 |  | Last Changed Date: 2008-04-29 16:50:18 -0700 (Tue, 29 Apr 2008) |  
  | lamb1  | Linux (SUSE 10.1) / x86_64  |  OK  |  OK  |  | 
| wilson2  | Linux (openSUSE 10.3) / x86_64  |  OK  | [ OK ] |  | 
| wellington  | Linux (openSUSE 10.3) / i686  |  OK  |  OK  |  | 
| liverpool  | Windows Server 2003 R2 (32-bit) / x64  |  OK  |  OK  |  OK  | 
| pitt  | Mac OS X Tiger (10.4.11) / i386  |  OK  |  OK  |  OK  | 
* checking for working pdflatex ... OK
* using log directory '/loc/home/biocbuild/bbs-2.2-bioc/meat/MassSpecWavelet.Rcheck'
* using R version 2.7.1 (2008-06-23)
* using session charset: ISO8859-1
* checking for file 'MassSpecWavelet/DESCRIPTION' ... OK
* checking extension type ... Package
* this is package 'MassSpecWavelet' version '1.6.0'
* checking package name space information ... OK
* checking package dependencies ... OK
* checking if this is a source package ... OK
* checking whether package 'MassSpecWavelet' can be installed ... OK
* checking package directory ... OK
* checking for portable file names ... OK
* checking for sufficient/correct file permissions ... OK
* checking DESCRIPTION meta-information ... OK
* checking top-level files ... OK
* checking index information ... OK
* checking package subdirectories ... OK
* checking R files for non-ASCII characters ... OK
* checking R files for syntax errors ... OK
* checking whether the package can be loaded ... OK
* checking whether the package can be loaded with stated dependencies ... OK
* checking whether the name space can be loaded with stated dependencies ... OK
* checking for unstated dependencies in R code ... OK
* checking S3 generic/method consistency ... OK
* checking replacement functions ... OK
* checking foreign function calls ... OK
* checking R code for possible problems ... OK
* checking Rd files ... OK
* checking Rd cross-references ... OK
* checking for missing documentation entries ... OK
* checking for code/documentation mismatches ... OK
* checking Rd \usage sections ... OK
* checking data for non-ASCII characters ... OK
* creating MassSpecWavelet-Ex.R ... OK
* checking examples ... OK
* checking package vignettes in 'inst/doc' ... OK
* creating MassSpecWavelet-manual.tex ... OK
* checking MassSpecWavelet-manual.tex using pdflatex ... OK
 
* Installing *source* package 'MassSpecWavelet' ...
** R
** data
** inst
** preparing package for lazy loading
Loading required package: waveslim
** help
Note: removing empty section \examples
Note: removing empty section \details
Note: removing empty section \references
Note: removing empty section \examples
 >>> Building/Updating help pages for package 'MassSpecWavelet'
     Formats: text html latex example 
  MassSpecWavelet.package           text    html    latex   example
  cwt                               text    html    latex   example
  exampleMS                         text    html    latex
  extendLength                      text    html    latex   example
  extendNBase                       text    html    latex   example
  getLocalMaximumCWT                text    html    latex   example
  getRidge                          text    html    latex   example
  getRidgeLength                    text    html    latex
  getRidgeValue                     text    html    latex
  identifyMajorPeaks                text    html    latex   example
  localMaximum                      text    html    latex   example
  mzInd2vRange                      text    html    latex
  mzV2indRange                      text    html    latex
  peakDetectionCWT                  text    html    latex   example
  plotLocalMax                      text    html    latex   example
  plotPeak                          text    html    latex   example
  plotRidgeList                     text    html    latex   example
  smoothDWT                         text    html    latex
  tuneInPeakInfo                    text    html    latex   example
** building package indices ...
* DONE (MassSpecWavelet)