MLInterfaces 1.14.1 V. Carey
 | Snapshot Date: 2008-08-08 00:12:03 -0700 (Fri, 08 Aug 2008) |  | URL: https://hedgehog.fhcrc.org/bioconductor/branches/RELEASE_2_2/madman/Rpacks/MLInterfaces |  | Last Changed Rev: 32886 / Revision: 33132 |  | Last Changed Date: 2008-07-24 03:35:26 -0700 (Thu, 24 Jul 2008) |  
  | lamb1  | Linux (SUSE 10.1) / x86_64  |  OK  |  OK  |  | 
| wilson2  | Linux (openSUSE 10.3) / x86_64  |  OK  |  OK  |  | 
| wellington  | Linux (openSUSE 10.3) / i686  |  OK  |  OK  |  | 
| liverpool  | Windows Server 2003 R2 (32-bit) / x64  |  OK  |  OK  |  OK  | 
| pitt  | Mac OS X Tiger (10.4.11) / i386  | [ OK ] |  OK  |  OK  | 
* checking for file 'MLInterfaces/DESCRIPTION' ... OK
* preparing 'MLInterfaces':
* checking DESCRIPTION meta-information ... OK
* installing the package to re-build vignettes
* Installing *source* package 'MLInterfaces' ...
** R
** inst
** preparing package for lazy loading
Loading required package: Biobase
Loading required package: tools
Welcome to Bioconductor
  Vignettes contain introductory material. To view, type
  'openVignette()'. To cite Bioconductor, see
  'citation("Biobase")' and for packages 'citation(pkgname)'.
Loading required package: MASS
Loading required package: genefilter
Loading required package: survival
Loading required package: splines
Attaching package: 'genefilter'
	The following object(s) are masked from package:MASS :
	 area 
Loading required package: rpart
Loading required package: rda
Loading required package: annotate
Loading required package: AnnotationDbi
Loading required package: DBI
Loading required package: RSQLite
Loading required package: xtable
** help
Note: removing empty section \examples
 >>> Building/Updating help pages for package 'MLInterfaces'
     Formats: text html latex example 
  Kfold                             text    html    latex   example
  MLIclust                          text    html    latex   example
  MLIntInternals                    text    html    latex
  MLearn-methods                    text    html    latex   example
  MLearn-new                        text    html    latex   example
  RAB                               text    html    latex   example
  SOMB                              text    html    latex   example
  balKfold.xvspec                   text    html    latex   example
  classifOutput-class               text    html    latex   example
  classifierOutput-class            text    html    latex   example
  clustOutput-class                 text    html    latex   example
  confuMat-methods                  text    html    latex   example
  fs.absT                           text    html    latex   example
  fsHistory                         text    html    latex   example
  knnB                              text    html    latex   example
  learnerSchema-class               text    html    latex   example
  planarPlot-methods                text    html    latex   example
  raboostCont-class                 text    html    latex   example
  varImpStruct-class                text    html    latex   example
  xval-methods                      text    html    latex   example
  xvalLoop-methods                  text    html    latex
  xvalLoop                          text    html    latex   example
  xvalSpec                          text    html    latex   example
** building package indices ...
* DONE (MLInterfaces)
* creating vignettes ... OK
* removing junk files
* checking for LF line-endings in source and make files
* checking for empty or unneeded directories
* building 'MLInterfaces_1.14.1.tar.gz'