GLAD 1.16.0 Philippe Hupe
 | Snapshot Date: 2008-08-08 00:12:03 -0700 (Fri, 08 Aug 2008) |  | URL: https://hedgehog.fhcrc.org/bioconductor/branches/RELEASE_2_2/madman/Rpacks/GLAD |  | Last Changed Rev: 31430 / Revision: 33132 |  | Last Changed Date: 2008-04-29 16:50:18 -0700 (Tue, 29 Apr 2008) |  
  | lamb1  | Linux (SUSE 10.1) / x86_64  |  OK  |  OK  |  | 
| wilson2  | Linux (openSUSE 10.3) / x86_64  |  OK  |  OK  |  | 
| wellington  | Linux (openSUSE 10.3) / i686  |  OK  |  OK  |  | 
| liverpool  | Windows Server 2003 R2 (32-bit) / x64  | [ OK ] |  OK  |  OK  | 
| pitt  | Mac OS X Tiger (10.4.11) / i386  |  OK  |  OK  |  OK  | 
* checking for file 'GLAD/DESCRIPTION' ... OK
* preparing 'GLAD':
* checking DESCRIPTION meta-information ... OK
* cleaning src
* installing the package to re-build vignettes
installing R.css in E:/biocbld/bbs-2.2-bioc/tmpdir/Rinst222040255
---------- Making package GLAD ------------
  adding build stamp to DESCRIPTION
  making DLL ...
making distance.d from distance.c
making glad-function.d from glad-function.c
making hclust.d from hclust.c
making laws.d from laws.c
making glad.d from glad.cpp
gcc  -std=gnu99  -Ie:/biocbld/bbs-2.2-bioc/R/include     -O3 -Wall  -c distance.c -o distance.o
gcc  -std=gnu99  -Ie:/biocbld/bbs-2.2-bioc/R/include     -O3 -Wall  -c glad-function.c -o glad-function.o
gcc  -std=gnu99  -Ie:/biocbld/bbs-2.2-bioc/R/include     -O3 -Wall  -c hclust.c -o hclust.o
gcc  -std=gnu99  -Ie:/biocbld/bbs-2.2-bioc/R/include     -O3 -Wall  -c laws.c -o laws.o
g++   -Ie:/biocbld/bbs-2.2-bioc/R/include     -O2 -Wall  -c glad.cpp -o glad.o
glad.cpp: In function 'void detectOutliers(double*, int*, int*, int*, int*, int*, double*, int*)':
glad.cpp:112: warning: comparison between signed and unsigned integer expressions
windres --preprocessor="gcc -E -xc -DRC_INVOKED" -I e:/biocbld/bbs-2.2-bioc/R/include  -i GLAD_res.rc -o GLAD_res.o
g++   -shared -s  -o GLAD.dll GLAD.def distance.o glad-function.o hclust.o laws.o glad.o GLAD_res.o  -Le:/biocbld/bbs-2.2-bioc/R/bin    -lR
  ... DLL made
  installing DLL
  installing R files
  installing demos
  installing inst files
  installing data files
  preparing package GLAD for lazy loading
  installing man source files
  installing indices
  not zipping data
  installing help
 >>> Building/Updating help pages for package 'GLAD'
     Formats: text html latex example chm 
  ChrNumeric                        text    html    latex   example chm
  ColorBar                          text    html    latex   example chm
  GLAD-internal                     text    html    latex           chm
  arrayCGH                          text    html    latex   example chm
  arrayPersp                        text    html    latex   example chm
  arrayPlot                         text    html    latex   example chm
  as.data.frame.profileCGH          text    html    latex   example chm
  as.profileCGH                     text    html    latex   example chm
  bladder                           text    html    latex   example chm
  cytoband                          text    html    latex   example chm
  daglad                            text    html    latex   example chm
  glad                              text    html    latex   example chm
  hclust                            text    html    latex   example chm
  kernel                            text    html    latex           chm
  myPalette                         text    html    latex   example chm
  plotProfile                       text    html    latex   example chm
  profileCGH                        text    html    latex   example chm
  snijders                          text    html    latex   example chm
  tkdaglad                          text    html    latex   example chm
  veltman                           text    html    latex   example chm
Microsoft HTML Help Compiler 4.74.8702
Compiling e:\biocbld\bbs-2.2-bioc\meat\GLAD\chm\GLAD.chm
Compile time: 0 minutes, 1 second
21	Topics
90	Local links
14	Internet links
1	Graphic
Created e:\biocbld\bbs-2.2-bioc\meat\GLAD\chm\GLAD.chm, 53,301 bytes
Compression decreased file by 56,515 bytes.
  adding MD5 sums
* DONE (GLAD)
* creating vignettes ... OK
* cleaning src
* removing junk files
* checking for LF line-endings in source and make files
* checking for empty or unneeded directories
* building 'GLAD_1.16.0.tar.gz'