GEOquery 2.4.4 Sean Davis
 | Snapshot Date: 2008-08-08 00:12:03 -0700 (Fri, 08 Aug 2008) |  | URL: https://hedgehog.fhcrc.org/bioconductor/branches/RELEASE_2_2/madman/Rpacks/GEOquery |  | Last Changed Rev: 33111 / Revision: 33132 |  | Last Changed Date: 2008-08-07 08:36:57 -0700 (Thu, 07 Aug 2008) |  
  | lamb1  | Linux (SUSE 10.1) / x86_64  |  OK  |  OK  |  | 
| wilson2  | Linux (openSUSE 10.3) / x86_64  | [ OK ] |  OK  |  | 
| wellington  | Linux (openSUSE 10.3) / i686  |  OK  |  OK  |  | 
| liverpool  | Windows Server 2003 R2 (32-bit) / x64  |  TIMEOUT  |  skipped  |  skipped  | 
| pitt  | Mac OS X Tiger (10.4.11) / i386  |  OK  |  OK  |  OK  | 
* checking for file 'GEOquery/DESCRIPTION' ... OK
* preparing 'GEOquery':
* checking DESCRIPTION meta-information ... OK
* installing the package to re-build vignettes
* Installing *source* package 'GEOquery' ...
** R
** inst
** help
Note: removing empty section \usage
Note: removing empty section \details
Note: removing empty section \arguments
 >>> Building/Updating help pages for package 'GEOquery'
     Formats: text html latex example 
  GDS-class                         text    html    latex
  GDS2MA                            text    html    latex   example
  GEOData-class                     text    html    latex
  GEODataTable-class                text    html    latex
  GPL-class                         text    html    latex
  GSE-class                         text    html    latex
  GSM-class                         text    html    latex
  dataTable                         text    html    latex
  getGEO                            text    html    latex   example
  getGEOSuppFiles                   text    html    latex   example
  getGEOfile                        text    html    latex   example
  gunzip                            text    html    latex
  parseGEO                          text    html    latex
** building package indices ...
* DONE (GEOquery)
* creating vignettes ... OK
* removing junk files
* checking for LF line-endings in source and make files
* checking for empty or unneeded directories
* building 'GEOquery_2.4.4.tar.gz'