DynDoc 1.18.0 Biocore Team c/o BioC user list
 | Snapshot Date: 2008-08-08 00:12:03 -0700 (Fri, 08 Aug 2008) |  | URL: https://hedgehog.fhcrc.org/bioconductor/branches/RELEASE_2_2/madman/Rpacks/DynDoc |  | Last Changed Rev: 31430 / Revision: 33132 |  | Last Changed Date: 2008-04-29 16:50:18 -0700 (Tue, 29 Apr 2008) |  
  | lamb1  | Linux (SUSE 10.1) / x86_64  |  OK  |  OK  |  | 
| wilson2  | Linux (openSUSE 10.3) / x86_64  |  OK  |  OK  |  | 
| wellington  | Linux (openSUSE 10.3) / i686  |  OK  |  OK  |  | 
| liverpool  | Windows Server 2003 R2 (32-bit) / x64  |  OK  |  OK  | [ OK ] | 
| pitt  | Mac OS X Tiger (10.4.11) / i386  |  OK  |  OK  |  OK  | 
installing R.css in E:/biocbld/bbs-2.2-bioc/meat/DynDoc.buildbin-libdir
Using auto-selected zip options ''
---------- Making package DynDoc ------------
  adding build stamp to DESCRIPTION
  installing NAMESPACE file and metadata
  installing R files
  preparing package DynDoc for lazy loading
Creating a new generic function for "summary" in "DynDoc"
  installing man source files
  installing indices
  installing help
 >>> Building/Updating help pages for package 'DynDoc'
     Formats: text html latex example chm 
  DynDoc-class                      text    html    latex           chm
  SweaveOptions-class               text    html    latex           chm
  Vignette-class                    text    html    latex           chm
  chunkList-class                   text    html    latex   example chm
  codeChunk-class                   text    html    latex   example chm
  getPkgVigList                     text    html    latex   example chm
  getVignette                       text    html    latex           chm
  getVignetteCode                   text    html    latex           chm
  getVignetteHeader                 text    html    latex           chm
  tangleToR                         text    html    latex   example chm
  vignetteCode-class                text    html    latex           chm
Microsoft HTML Help Compiler 4.74.8702
Compiling e:\biocbld\bbs-2.2-bioc\meat\R.INSTALL.5928\DynDoc\chm\DynDoc.chm
Compile time: 0 minutes, 0 seconds
12	Topics
119	Local links
0	Internet links
1	Graphic
Created e:\biocbld\bbs-2.2-bioc\meat\R.INSTALL.5928\DynDoc\chm\DynDoc.chm, 30,351 bytes
Compression decreased file by 39,864 bytes.
  adding MD5 sums
packaged installation of package 'DynDoc' as DynDoc_1.18.0.zip
* DONE (DynDoc)