DNAcopy 1.14.0 Venkatraman E. Seshan
 | Snapshot Date: 2008-08-08 00:12:03 -0700 (Fri, 08 Aug 2008) |  | URL: https://hedgehog.fhcrc.org/bioconductor/branches/RELEASE_2_2/madman/Rpacks/DNAcopy |  | Last Changed Rev: 31430 / Revision: 33132 |  | Last Changed Date: 2008-04-29 16:50:18 -0700 (Tue, 29 Apr 2008) |  
  | lamb1  | Linux (SUSE 10.1) / x86_64  |  OK  |  OK  |  | 
| wilson2  | Linux (openSUSE 10.3) / x86_64  |  OK  |  OK  |  | 
| wellington  | Linux (openSUSE 10.3) / i686  |  OK  |  OK  |  | 
| liverpool  | Windows Server 2003 R2 (32-bit) / x64  | [ OK ] |  OK  |  OK  | 
| pitt  | Mac OS X Tiger (10.4.11) / i386  |  OK  |  OK  |  OK  | 
* checking for file 'DNAcopy/DESCRIPTION' ... OK
* preparing 'DNAcopy':
* checking DESCRIPTION meta-information ... OK
* cleaning src
* installing the package to re-build vignettes
installing R.css in E:/biocbld/bbs-2.2-bioc/tmpdir/Rinst279629727
---------- Making package DNAcopy ------------
  adding build stamp to DESCRIPTION
  making DLL ...
making flchoose.d from flchoose.c
making fphyper.d from fphyper.c
making fpnorm.d from fpnorm.c
making rshared.d from rshared.c
gcc  -std=gnu99  -Ie:/biocbld/bbs-2.2-bioc/R/include     -O3 -Wall  -c flchoose.c -o flchoose.o
gcc  -std=gnu99  -Ie:/biocbld/bbs-2.2-bioc/R/include     -O3 -Wall  -c fphyper.c -o fphyper.o
gcc  -std=gnu99  -Ie:/biocbld/bbs-2.2-bioc/R/include     -O3 -Wall  -c fpnorm.c -o fpnorm.o
gcc  -std=gnu99  -Ie:/biocbld/bbs-2.2-bioc/R/include     -O3 -Wall  -c rshared.c -o rshared.o
gfortran   -O3  -c changepoints.f -o changepoints.o
gfortran   -O3  -c getbdry.f -o getbdry.o
gfortran   -O3  -c hybcpt.f -o hybcpt.o
gfortran   -O3  -c prune.f -o prune.o
gfortran   -O3  -c segmentp.f -o segmentp.o
windres --preprocessor="gcc -E -xc -DRC_INVOKED" -I e:/biocbld/bbs-2.2-bioc/R/include  -i DNAcopy_res.rc -o DNAcopy_res.o
gcc  -std=gnu99  -shared -s  -o DNAcopy.dll DNAcopy.def flchoose.o fphyper.o fpnorm.o rshared.o changepoints.o getbdry.o hybcpt.o prune.o segmentp.o DNAcopy_res.o  -Le:/biocbld/bbs-2.2-bioc/R/bin   -lgfortran -lR
  ... DLL made
  installing DLL
  installing R files
  installing demos
  installing inst files
  installing data files
  preparing package DNAcopy for lazy loading
  preparing package DNAcopy for lazy data loading
  installing man source files
  installing indices
  installing help
 >>> Building/Updating help pages for package 'DNAcopy'
     Formats: text html latex example chm 
  CNA                               text    html    latex   example chm
  DNAcopy-internal                  text    html    latex           chm
  DNAcopy                           text    html    latex           chm
  coriell                           text    html    latex           chm
  cytoBand                          text    html    latex           chm
  getbdry                           text    html    latex           chm
  plot.DNAcopy                      text    html    latex   example chm
  segment                           text    html    latex   example chm
  segments.p                        text    html    latex   example chm
  segments.summary                  text    html    latex   example chm
  smooth.CNA                        text    html    latex   example chm
  subset.CNA                        text    html    latex   example chm
  subset.DNAcopy                    text    html    latex           chm
Microsoft HTML Help Compiler 4.74.8702
Compiling e:\biocbld\bbs-2.2-bioc\meat\DNAcopy\chm\DNAcopy.chm
Compile time: 0 minutes, 0 seconds
14	Topics
28	Local links
1	Internet link
1	Graphic
Created e:\biocbld\bbs-2.2-bioc\meat\DNAcopy\chm\DNAcopy.chm, 34,174 bytes
Compression decreased file by 13,529 bytes.
  adding MD5 sums
* DONE (DNAcopy)
* creating vignettes ... OK
* cleaning src
* removing junk files
* checking for LF line-endings in source and make files
* checking for empty or unneeded directories
* building 'DNAcopy_1.14.0.tar.gz'