CORREP 1.6.0 Dongxiao Zhu
 | Snapshot Date: 2008-08-08 00:12:03 -0700 (Fri, 08 Aug 2008) |  | URL: https://hedgehog.fhcrc.org/bioconductor/branches/RELEASE_2_2/madman/Rpacks/CORREP |  | Last Changed Rev: 31430 / Revision: 33132 |  | Last Changed Date: 2008-04-29 16:50:18 -0700 (Tue, 29 Apr 2008) |  
  | lamb1  | Linux (SUSE 10.1) / x86_64  |  OK  |  OK  |  | 
| wilson2  | Linux (openSUSE 10.3) / x86_64  |  OK  |  OK  |  | 
| wellington  | Linux (openSUSE 10.3) / i686  |  OK  |  OK  |  | 
| liverpool  | Windows Server 2003 R2 (32-bit) / x64  |  OK  |  OK  |  OK  | 
| pitt  | Mac OS X Tiger (10.4.11) / i386  | [ OK ] |  OK  |  OK  | 
* checking for file 'CORREP/DESCRIPTION' ... OK
* preparing 'CORREP':
* checking DESCRIPTION meta-information ... OK
* installing the package to re-build vignettes
* Installing *source* package 'CORREP' ...
** R
** data
** inst
** help
Note: removing empty section \examples
 >>> Building/Updating help pages for package 'CORREP'
     Formats: text html latex example 
  CORREP-package                    text    html    latex
  cor.LRtest                        text    html    latex   example
  cor.LRtest.std                    text    html    latex   example
  cor.balance                       text    html    latex   example
  cor.bootci                        text    html    latex   example
  cor.unbalance                     text    html    latex   example
  gal_all                           text    html    latex   example
  permutest                         text    html    latex   example
  true.member                       text    html    latex   example
** building package indices ...
Warning in readLines(f[1]) :
  incomplete final line found on '/Users/biocbuild/bbs-2.2-bioc/meat/CORREP/inst/doc/CORREP.Rnw'
* DONE (CORREP)
* creating vignettes ... OK
* removing junk files
* checking for LF line-endings in source and make files
* checking for empty or unneeded directories
* building 'CORREP_1.6.0.tar.gz'