BSgenome 1.8.4 H. Pages
 | Snapshot Date: 2008-08-08 00:12:03 -0700 (Fri, 08 Aug 2008) |  | URL: https://hedgehog.fhcrc.org/bioconductor/branches/RELEASE_2_2/madman/Rpacks/BSgenome |  | Last Changed Rev: 32998 / Revision: 33132 |  | Last Changed Date: 2008-08-01 12:04:56 -0700 (Fri, 01 Aug 2008) |  
  | lamb1  | Linux (SUSE 10.1) / x86_64  | [ OK ] |  OK  |  | 
| wilson2  | Linux (openSUSE 10.3) / x86_64  |  OK  |  OK  |  | 
| wellington  | Linux (openSUSE 10.3) / i686  |  OK  |  OK  |  | 
| liverpool  | Windows Server 2003 R2 (32-bit) / x64  |  OK  |  OK  |  OK  | 
| pitt  | Mac OS X Tiger (10.4.11) / i386  |  OK  |  OK  |  OK  | 
* checking for file 'BSgenome/DESCRIPTION' ... OK
* preparing 'BSgenome':
* checking DESCRIPTION meta-information ... OK
* installing the package to re-build vignettes
* Installing *source* package 'BSgenome' ...
** R
** inst
** preparing package for lazy loading
Loading required package: Biobase
Loading required package: tools
Welcome to Bioconductor
  Vignettes contain introductory material. To view, type
  'openVignette()'. To cite Bioconductor, see
  'citation("Biobase")' and for packages 'citation(pkgname)'.
Loading required package: Biostrings
** help
Note: removing empty section \details
 >>> Building/Updating help pages for package 'BSgenome'
     Formats: text html latex example 
  BSgenome-class                    text    html    latex   example
  BSgenomeForge                     text    html    latex
  available.genomes                 text    html    latex   example
  getSeq                            text    html    latex   example
  injectSNPs                        text    html    latex   example
** building package indices ...
* DONE (BSgenome)
* creating vignettes ... OK
* removing junk files
* checking for LF line-endings in source and make files
* checking for empty or unneeded directories
* building 'BSgenome_1.8.4.tar.gz'