BCRANK 1.2.0 Adam Ameur
 | Snapshot Date: 2008-08-08 00:12:03 -0700 (Fri, 08 Aug 2008) |  | URL: https://hedgehog.fhcrc.org/bioconductor/branches/RELEASE_2_2/madman/Rpacks/BCRANK |  | Last Changed Rev: 31430 / Revision: 33132 |  | Last Changed Date: 2008-04-29 16:50:18 -0700 (Tue, 29 Apr 2008) |  
  | lamb1  | Linux (SUSE 10.1) / x86_64  |  OK  |  OK  |  | 
| wilson2  | Linux (openSUSE 10.3) / x86_64  | [ OK ] |  OK  |  | 
| wellington  | Linux (openSUSE 10.3) / i686  |  OK  |  OK  |  | 
| liverpool  | Windows Server 2003 R2 (32-bit) / x64  |  OK  |  OK  |  OK  | 
| pitt  | Mac OS X Tiger (10.4.11) / i386  |  OK  |  OK  |  OK  | 
* checking for file 'BCRANK/DESCRIPTION' ... OK
* preparing 'BCRANK':
* checking DESCRIPTION meta-information ... OK
* cleaning src
* installing the package to re-build vignettes
* Installing *source* package 'BCRANK' ...
** libs
gcc -std=gnu99 -I/home/biocbuild/bbs-2.2-bioc/R/include  -I/usr/local/include    -fpic  -g -O2 -Wall -c init.c -o init.o
gcc -std=gnu99 -I/home/biocbuild/bbs-2.2-bioc/R/include  -I/usr/local/include    -fpic  -g -O2 -Wall -c match_consensus.c -o match_consensus.o
gcc -std=gnu99 -shared -L/usr/local/lib64 -o BCRANK.so init.o match_consensus.o   
** R
** data
** inst
** preparing package for lazy loading
Creating a new generic function for "plot" in "BCRANK"
** help
 >>> Building/Updating help pages for package 'BCRANK'
     Formats: text html latex example 
  BCRANK-internal                   text    html    latex
  BCRANKmatch-class                 text    html    latex
  BCRANKout                         text    html    latex
  BCRANKresult-class                text    html    latex
  BCRANKsearch-class                text    html    latex
  bcrank                            text    html    latex   example
** building package indices ...
* DONE (BCRANK)
* creating vignettes ... OK
* cleaning src
* removing junk files
* checking for LF line-endings in source and make files
* checking for empty or unneeded directories
* building 'BCRANK_1.2.0.tar.gz'