ACME 1.6.0 Sean Davis
 | Snapshot Date: 2008-08-08 00:12:03 -0700 (Fri, 08 Aug 2008) |  | URL: https://hedgehog.fhcrc.org/bioconductor/branches/RELEASE_2_2/madman/Rpacks/ACME |  | Last Changed Rev: 31430 / Revision: 33132 |  | Last Changed Date: 2008-04-29 16:50:18 -0700 (Tue, 29 Apr 2008) |  
  | lamb1  | Linux (SUSE 10.1) / x86_64  |  OK  |  OK  |  | 
| wilson2  | Linux (openSUSE 10.3) / x86_64  |  OK  |  OK  |  | 
| wellington  | Linux (openSUSE 10.3) / i686  |  OK  |  OK  |  | 
| liverpool  | Windows Server 2003 R2 (32-bit) / x64  |  OK  |  OK  | [ OK ] | 
| pitt  | Mac OS X Tiger (10.4.11) / i386  |  OK  |  OK  |  OK  | 
installing R.css in E:/biocbld/bbs-2.2-bioc/meat/ACME.buildbin-libdir
Using auto-selected zip options 'ACME-ZIPDATA=zip'
---------- Making package ACME ------------
  adding build stamp to DESCRIPTION
  installing NAMESPACE file and metadata
  making DLL ...
making windowChisq.d from windowChisq.c
gcc  -std=gnu99  -IE:/biocbld/bbs-2.2-bioc/R/include     -O3 -Wall  -c windowChisq.c -o windowChisq.o
windowChisq.c: In function 'windowChisq':
windowChisq.c:58: warning: suggest parentheses around comparison in operand of &
windowChisq.c:63: warning: suggest parentheses around comparison in operand of &
windowChisq.c:21: warning: unused variable 'xa'
windowChisq.c: At top level:
windowChisq.c:86: warning: initialization from incompatible pointer type
windres --preprocessor="gcc -E -xc -DRC_INVOKED" -I E:/biocbld/bbs-2.2-bioc/R/include  -i ACME_res.rc -o ACME_res.o
gcc  -std=gnu99  -shared -s  -o ACME.dll ACME.def windowChisq.o ACME_res.o  -LE:/biocbld/bbs-2.2-bioc/R/bin    -lR
  ... DLL made
  installing DLL
  installing R files
  installing inst files
  installing data files
  installing man source files
  installing indices
  zipping data
  installing help
 >>> Building/Updating help pages for package 'ACME'
     Formats: text html latex example chm 
  aGFF-class                        text    html    latex   example chm
  aGFFCalc-class                    text    html    latex   example chm
  do.aGFF.calc                      text    html    latex   example chm
  example.agff                      text    html    latex   example chm
  findClosestGene                   text    html    latex   example chm
  findRegions                       text    html    latex   example chm
  getRefflat                        text    html    latex   example chm
  read.resultsGFF                   text    html    latex   example chm
  write.sgr                         text    html    latex   example chm
Microsoft HTML Help Compiler 4.74.8702
Compiling e:\biocbld\bbs-2.2-bioc\meat\R.INSTALL.5704\ACME\chm\ACME.chm
Compile time: 0 minutes, 0 seconds
10	Topics
33	Local links
0	Internet links
1	Graphic
Created e:\biocbld\bbs-2.2-bioc\meat\R.INSTALL.5704\ACME\chm\ACME.chm, 26,473 bytes
Compression decreased file by 4,362 bytes.
  adding MD5 sums
packaged installation of package 'ACME' as ACME_1.6.0.zip
* DONE (ACME)