| Back to the "Multiple platform build/check report" | A B C D E F G H I J K L M N O P Q R [S] T U V W X Y Z |
| Package 235/251 | Hostname | OS / Arch | BUILD | CHECK | BUILD BIN | ||||
| stepNorm 1.11.0 Yuanyuan Xiao
| lamb1 | Linux (SUSE 10.1) / x86_64 | OK | ERROR | |||||
| wilson2 | Linux (openSUSE 10.3) / x86_64 | OK | ERROR | ||||||
| wellington | Linux (openSUSE 10.3) / i686 | [ OK ] | ERROR | ||||||
| liverpool | Windows Server 2003 R2 (32-bit) / x64 | OK | ERROR | OK | |||||
| lemming | Windows Server 2003 (32-bit) / x64 | OK | ERROR | OK |
| Package: stepNorm |
| Version: 1.11.0 |
| Command: /home/biocbuild/bbs-2.2-bioc/R/bin/R CMD build stepNorm |
| StartedAt: 2007-12-11 03:41:52 -0800 (Tue, 11 Dec 2007) |
| EndedAt: 2007-12-11 03:41:54 -0800 (Tue, 11 Dec 2007) |
| EllapsedTime: 1.8 seconds |
| RetCode: 0 |
| Status: OK |
| PackageFile: stepNorm_1.11.0.tar.gz |
| PackageFileSize: 458 KiB |
* checking for file 'stepNorm/DESCRIPTION' ... OK * preparing 'stepNorm': * checking DESCRIPTION meta-information ... OK * removing junk files * checking for LF line-endings in source and make files * checking for empty or unneeded directories * building 'stepNorm_1.11.0.tar.gz'