| splicegear 1.11.0 Laurent
 
 | Snapshot Date: 2007-12-11 00:09:07 -0800 (Tue, 11 Dec 2007) |  | URL: https://hedgehog.fhcrc.org/bioconductor/trunk/madman/Rpacks/splicegear |  | Last Changed Rev: 27716 / Revision: 29143 |  | Last Changed Date: 2007-10-02 18:16:39 -0700 (Tue, 02 Oct 2007) | 
 | lamb1 | Linux (SUSE 10.1) / x86_64 | OK | OK |  | 
| wilson2 | Linux (openSUSE 10.3) / x86_64 | OK | OK |  | 
| wellington | Linux (openSUSE 10.3) / i686 | [ OK ] | OK |  | 
| liverpool | Windows Server 2003 R2 (32-bit) / x64 | OK | OK | OK | 
| lemming | Windows Server 2003 (32-bit) / x64 | OK | OK | OK | 
* checking for file 'splicegear/DESCRIPTION' ... OK
* preparing 'splicegear':
* checking DESCRIPTION meta-information ... OK
* installing the package to re-build vignettes
/tmp/Rinst32759892
* Installing *source* package 'splicegear' ...
** R
** data
** inst
** preparing package for lazy loading
Loading required package: grid
Loading required package: Biobase
Loading required package: tools
Welcome to Bioconductor
  Vignettes contain introductory material. To view, type
  'openVignette()'. To cite Bioconductor, see
  'citation("Biobase")' and for packages 'citation(pkgname)'.
Loading required package: XML
Loading required package: annotate
Loading required package: AnnotationDbi
Loading required package: DBI
Loading required package: RSQLite
Loading required package: xtable
** help
Note: removing empty section \details
Note: removing empty section \examples
Note: removing empty section \details
Note: removing empty section \source
 >>> Building/Updating help pages for package 'splicegear'
     Formats: text html latex example 
  Probes-class                      text    html    latex   example
  SpliceExprSet-class               text    html    latex   example
  SpliceSites-class                 text    html    latex   example
  SpliceSitesGenomic-class          text    html    latex   example
  as.data.frame.SpliceExprSet       text    html    latex   example
  barplot.SpliceSites               text    html    latex   example
  buildSpliceSites                  text    html    latex   example
  getRelSignStrength                text    html    latex   example
  grid.helpers                      text    html    latex
  grid.plot.SpliceSites             text    html    latex   example
  isProbeOnSpliceSite               text    html    latex
  matchprobes2Probes                text    html    latex
  plot.SpliceExprSet                text    html    latex   example
  plot.SpliceSites                  text    html    latex   example
  plot.SpliceSitesGenomic           text    html    latex   example
  sort.SpliceExprSet                text    html    latex   example
  spliceset                         text    html    latex   example
  split.SpliceSites                 text    html    latex   example
** building package indices ...
* DONE (splicegear)
* creating vignettes ... OK
* removing junk files
* checking for LF line-endings in source and make files
* checking for empty or unneeded directories
* building 'splicegear_1.11.0.tar.gz'