| Back to the "Multiple platform build/check report" | A B C D E F G H I J K L M N O [P] Q R S T U V W X Y Z |
| Package 181/251 | Hostname | OS / Arch | BUILD | CHECK | BUILD BIN | ||||
| puma 1.5.3 Richard Pearson
| lamb1 | Linux (SUSE 10.1) / x86_64 | OK | OK | |||||
| wilson2 | Linux (openSUSE 10.3) / x86_64 | OK | OK | ||||||
| wellington | Linux (openSUSE 10.3) / i686 | OK | OK | ||||||
| liverpool | Windows Server 2003 R2 (32-bit) / x64 | OK | OK | OK | |||||
| lemming | Windows Server 2003 (32-bit) / x64 | [ OK ] | OK | OK |
| Package: puma |
| Version: 1.5.3 |
| Command: D:\biocbld\bbs-2.2-bioc\R\bin\R.exe CMD build puma |
| StartedAt: 2007-12-11 04:23:53 -0700 (Tue, 11 Dec 2007) |
| EndedAt: 2007-12-11 04:23:59 -0700 (Tue, 11 Dec 2007) |
| EllapsedTime: 5.8 seconds |
| RetCode: 0 |
| Status: OK |
| PackageFile: puma_1.5.3.tar.gz |
| PackageFileSize: 401.6 KiB |
* checking for file 'puma/DESCRIPTION' ... OK * preparing 'puma': * checking DESCRIPTION meta-information ... OK * cleaning src * removing junk files * checking for LF line-endings in source and make files * checking for empty or unneeded directories * building 'puma_1.5.3.tar.gz'