| Back to the "Multiple platform build/check report" | A B C D E F G H I J K L M N [O] P Q R S T U V W X Y Z |
| Package 154/251 | Hostname | OS / Arch | BUILD | CHECK | BUILD BIN | ||||
| oligoClasses 1.1.6 Benilton Carvalho
| lamb1 | Linux (SUSE 10.1) / x86_64 | OK | OK | |||||
| wilson2 | Linux (openSUSE 10.3) / x86_64 | OK | OK | ||||||
| wellington | Linux (openSUSE 10.3) / i686 | OK | OK | ||||||
| liverpool | Windows Server 2003 R2 (32-bit) / x64 | [ OK ] | OK | OK | |||||
| lemming | Windows Server 2003 (32-bit) / x64 | OK | OK | OK |
| Package: oligoClasses |
| Version: 1.1.6 |
| Command: E:\biocbld\bbs-2.2-bioc\R\bin\R.exe CMD build oligoClasses |
| StartedAt: 2007-12-11 03:53:50 -0700 (Tue, 11 Dec 2007) |
| EndedAt: 2007-12-11 03:53:53 -0700 (Tue, 11 Dec 2007) |
| EllapsedTime: 2.7 seconds |
| RetCode: 0 |
| Status: OK |
| PackageFile: oligoClasses_1.1.6.tar.gz |
| PackageFileSize: 5.152 KiB |
* checking for file 'oligoClasses/DESCRIPTION' ... OK * preparing 'oligoClasses': * checking DESCRIPTION meta-information ... OK * removing junk files * checking for LF line-endings in source and make files * checking for empty or unneeded directories * building 'oligoClasses_1.1.6.tar.gz'