| maSigPro 1.11.0 Ana Conesa
 
 | Snapshot Date: 2007-12-11 00:09:07 -0800 (Tue, 11 Dec 2007) |  | URL: https://hedgehog.fhcrc.org/bioconductor/trunk/madman/Rpacks/maSigPro |  | Last Changed Rev: 27716 / Revision: 29143 |  | Last Changed Date: 2007-10-02 18:16:39 -0700 (Tue, 02 Oct 2007) | 
 | lamb1 | Linux (SUSE 10.1) / x86_64 | OK | OK |  | 
| wilson2 | Linux (openSUSE 10.3) / x86_64 | OK | OK |  | 
| wellington | Linux (openSUSE 10.3) / i686 | OK | OK |  | 
| liverpool | Windows Server 2003 R2 (32-bit) / x64 | OK | [ OK ] | OK | 
| lemming | Windows Server 2003 (32-bit) / x64 | OK | OK | OK | 
* checking for working latex ... OK
* using log directory 'E:/biocbld/bbs-2.2-bioc/meat/maSigPro.Rcheck'
* using R version 2.7.0 Under development (unstable) (2007-11-14 r43455)
* checking for file 'maSigPro/DESCRIPTION' ... OK
* checking extension type ... Package
* this is package 'maSigPro' version '1.11.0'
* checking package dependencies ... OK
* checking if this is a source package ... OK
* checking whether package 'maSigPro' can be installed ... OK
* checking package directory ... OK
* checking for portable file names ... OK
* checking DESCRIPTION meta-information ... OK
* checking top-level files ... OK
* checking index information ... OK
* checking package subdirectories ... OK
* checking R files for non-ASCII characters ... OK
* checking R files for syntax errors ... OK
* checking whether the package can be loaded ... OK
* checking whether the package can be loaded with stated dependencies ... OK
* checking for unstated dependencies in R code ... OK
* checking S3 generic/method consistency ... OK
* checking replacement functions ... OK
* checking foreign function calls ... OK
* checking R code for possible problems ... OK
* checking Rd files ... OK
* checking Rd cross-references ... OK
* checking for missing documentation entries ... OK
* checking for code/documentation mismatches ... OK
* checking Rd \usage sections ... OK
* checking data for non-ASCII characters ... OK
* creating maSigPro-Ex.R ... OK
* checking examples ... OK
* checking package vignettes in 'inst/doc' ... OK
* creating maSigPro-manual.tex ... OK
* checking maSigPro-manual.tex ... OK
 
installing R.css in E:/biocbld/bbs-2.2-bioc/meat/maSigPro.Rcheck
---------- Making package maSigPro ------------
  adding build stamp to DESCRIPTION
  installing R files
  installing inst files
  installing data files
  preparing package maSigPro for lazy loading
Loading required package: Biobase
Loading required package: tools
Welcome to Bioconductor
  Vignettes contain introductory material. To view, type
  'openVignette()'. To cite Bioconductor, see
  'citation("Biobase")' and for packages 'citation(pkgname)'.
  installing man source files
  installing indices
  not zipping data
  installing help
 >>> Building/Updating help pages for package 'maSigPro'
     Formats: text html latex example chm 
  PlotGroups                        text    html    latex   example chm
  PlotProfiles                      text    html    latex   example chm
  T.fit                             text    html    latex   example chm
  average.rows                      text    html    latex   example chm
  data.abiotic                      text    html    latex   example chm
  edesign.OD                        text    html    latex   example chm
  edesign.abiotic                   text    html    latex   example chm
  edesignCT                         text    html    latex   example chm
  edesignDR                         text    html    latex   example chm
  get.siggenes                      text    html    latex   example chm
  i.rank                            text    html    latex   example chm
  maSigPro                          text    html    latex   example chm
  make.design.matrix                text    html    latex   example chm
  p.vector                          text    html    latex   example chm
  position                          text    html    latex   example chm
  reg.coeffs                        text    html    latex   example chm
  see.genes                         text    html    latex   example chm
  stepback                          text    html    latex   example chm
  stepfor                           text    html    latex   example chm
  suma2Venn                         text    html    latex   example chm
  two.ways.stepback                 text    html    latex   example chm
  two.ways.stepfor                  text    html    latex   example chm
Microsoft HTML Help Compiler 4.74.8702
Compiling e:\biocbld\bbs-2.2-bioc\meat\maSigPro.Rcheck\00_pkg_src\maSigPro\chm\maSigPro.chm
Compile time: 0 minutes, 0 seconds
23	Topics
138	Local links
0	Internet links
1	Graphic
Created e:\biocbld\bbs-2.2-bioc\meat\maSigPro.Rcheck\00_pkg_src\maSigPro\chm\maSigPro.chm, 59,167 bytes
Compression decreased file by 73,056 bytes.
  adding MD5 sums
* DONE (maSigPro)